{"text_format":"1","workbook":"xlsx","n_sheets":2,"sheets":["Ark1","Materialegenskaper"],"not_rendered":{"charts":1,"images":0,"macros":1,"external_links":0,"defined_names":0,"comments":0,"pivot_tables":0},"unopened":[],"bounds":{"document_bytes":16777216,"sheet_cells":100000,"rows_first":2000,"rows_last":500,"rows_between":2000,"halvings":0,"cell_chars":16384,"cell_head_chars":4096},"cells_cut":0,"cells_raw":0,"read":"whole","date_system":"1900"}

{"sheet":"Ark1","index":0,"n_rows":122,"n_cols":20,"rows_kept":122,"cut":false,"hidden":false,"merged":[[18,1,18,2],[0,1,0,6],[18,8,18,19]]}
["Ledertype","Kontakttråd EN 50149 type AC-120 CuAg0,1"]
["Inngangsparametre for leder","Symbol","Verdi","Enhet","Skalert","Enhet","Brukes til"]
["Resistans","r0",0.185,"Ohm/km",{"$f":"C3/1000","v":1.85E-4},"Ohm/m","Pel"]
["Referansetemperatur resistans","Tref",20,"°C",{"$f":"C4","v":20},"°C","Pel"]
["Temperaturfaktor for resistans","alfaR",4.0000000000000001E-3,"1/K",{"$f":"C5","v":4.0000000000000001E-3},"1/K","Pel"]
["Spesifikk varmekapasitet","cp",0.39400000000000002,"kJ/(kgK)",{"$f":"C6*1000","v":394},"J/(kgK)","Varmelagring"]
["Diameter","d_leder",13.2,"mm",{"$f":"C7/1000","v":1.32E-2},"m","Qsol,Qstr,Qkonv"]
["Masse","m",{"$f":"1.067*0.8","v":0.85360000000000003},"kg/m",{"$f":"C8","v":0.85360000000000003},"kg/m","Varmelagring"]
["Absorpsjonskoeffisient","alfaS",0.85,"[1]",{"$f":"C9","v":0.85},"[1]","Qsol,Qstr"]
["Inngangsparametre for omgivelser","Symbol","Verdi","Enhet","Skalert","Enhet","Brukes til"]
["Tyngdens akselerasjon","g",9.81,"m/s2",{"$f":"C11","v":9.81},"m/s2","Qkonv"]
["Vindhastighet tverrvind","v",1,"m/s",{"$f":"C12","v":1},"m/s","Qkonv"]
["Solintensitet","Isol",1050,"W/m2",{"$f":"C13","v":1050},"W/m2","Qsol"]
["Stefan-Bolzmanns konstant","sigma",{"$f":"0.0000000567","v":5.6699999999999998E-8},"W/(m2K4)",{"$f":"C14","v":5.6699999999999998E-8},"W/(m2K4)","Qstr"]
["Omgivelsestemperatur","T0",25,"°C",{"$f":"C15","v":25},"°C","Alle"]
[]
["Eulers metode er benyttet. Denne integrasjonsmetoden kan enklest implementeres i et regneark. Ingen tidsskritt bør overstige ca. 10 sekunder."]
[]
["Ledertemp","Inngangsverdier for strømbelastning",null,"Varmebalanse","Elektrisk oppvarming","Sol-oppvarming","Avkjøling ved varmestråling","Konvektiv avkjøling","Mellomregninger for beregning av konvektiv avkjøling"]
["°C","s","A","W/m","W/m","W/m","W/m","W/m","W/m2K",null,null,"IEC 61597",null,null,"K","1/K","m2/s"]
["T","t","I","dE/dt","Pel","Qsol","Qstråling","Qkonveksjon","h","Nu, kombinert","Nu, fri konv","Nu, forsert konv","Rayleighs tall","Reynolds tall","Filmtemperatur","Beta","k","v","alfa","Prandtls tall"]
[{"$f":"C15","v":25},0,700,{"$f":"E22+F22-G22-H22","v":104.244},{"$f":"$E$3*(1+$E$5*(A22-$E$4))*C22^2","v":92.463000000000008},{"$f":"$E$13*$E$7*$E$9","v":11.780999999999999},{"$f":"PI()*$E$7*$E$9*$E$14*((A22+273.15)^4-($E$15+273.15)^4)","v":0},{"$f":"I22*PI()*$E$7*(A22-$E$15)","v":0},{"$f":"Q22*J22/$E$7","v":32.63782218924328},{"$f":"(K22^4+L22^4)^(1/4)","v":16.473663692949348},{"$f":"(0.6+(0.387*(M22^(1/6)))/((1+(0.559/T22)^(9/16))^(8/27)))^2","v":0.36},{"$f":"0.65*N22^(0.2)+0.23*N22^(0.61)","v":16.473662753703117},{"$f":"$C$11*P22*(A22-$E$15)*$E$7^3/(R22*S22)","v":0},{"$f":"$E$12*$E$7/R22","v":839.40897976833605},{"$f":"(A22+$E$15)/2+273.15","v":298.14999999999998},{"$f":"1/O22","v":3.3540164346805303E-3},{"$f":"Egen_LinInt1(O22,Materialegenskaper!$B$3:$B$7,Materialegenskaper!$G$3:$G$7)","v":2.6151999999999998E-2},{"$f":"Egen_LinInt1(O22,Materialegenskaper!$B$3:$B$7,Materialegenskaper!$E$3:$E$7)","v":1.5725349999999997E-5},{"$f":"Egen_LinInt1(O22,Materialegenskaper!$B$3:$B$7,Materialegenskaper!$D$3:$D$7)","v":2.2255799999999998E-5},{"$f":"Egen_LinInt1(O22,Materialegenskaper!$B$3:$B$7,Materialegenskaper!$F$3:$F$7)","v":0.70748099999999992}]
[{"$f":"A22+((B23-B22)/($E$8*$E$6))*D22","v":28.099562795255924},{"$f":"B22+10","v":10},{"$f":"C22","v":700},{"$f":"E23+F23-G23-H23","v":100.50547372931256},93.586901469559805,11.780999999999999,0.66704803740087415,4.1953797028463615,32.639765472798295,{"$f":"(K23^4+L23^4)^(1/4)","v":16.396909384731327},{"$f":"(0.6+(0.387*(M23^(1/6)))/((1+(0.559/T23)^(9/16))^(8/27)))^2","v":2.3915670694673166},{"$f":"0.65*N23^(0.2)+0.23*N23^(0.61)","v":16.395053897387449},654.92999468970504,832.11035466866701,299.69978139762793,{"$f":"1/O23","v":3.3366724371188174E-3},{"$f":"Egen_LinInt1(O23,Materialegenskaper!$B$3:$B$7,Materialegenskaper!$G$3:$G$7)","v":2.6275982511810236E-2},{"$f":"Egen_LinInt1(O23,Materialegenskaper!$B$3:$B$7,Materialegenskaper!$E$3:$E$7)","v":1.5863280544388885E-5},{"$f":"Egen_LinInt1(O23,Materialegenskaper!$B$3:$B$7,Materialegenskaper!$D$3:$D$7)","v":2.2460371144486887E-5},{"$f":"Egen_LinInt1(O23,Materialegenskaper!$B$3:$B$7,Materialegenskaper!$F$3:$F$7)","v":0.70707805683661673}]
[31.087965265335246,{"$f":"B23+10","v":20},{"$f":"C23","v":700},96.8869270722425,94.670496205210554,11.780999999999999,1.3299679497925292,8.2346011831755312,32.617194285454573,{"$f":"(K24^4+L24^4)^(1/4)","v":16.315794191073334},{"$f":"(0.6+(0.387*(M24^(1/6)))/((1+(0.559/T24)^(9/16))^(8/27)))^2","v":2.7388925938202218},{"$f":"0.65*N24^(0.2)+0.23*N24^(0.61)","v":16.312554193196171},1256.1520127128367,824.47879270203964,301.1939826326676,{"$f":"1/O24","v":3.3201194501272205E-3},{"$f":"Egen_LinInt1(O24,Materialegenskaper!$B$3:$B$7,Materialegenskaper!$G$3:$G$7)","v":2.6388354714817402E-2},{"$f":"Egen_LinInt1(O24,Materialegenskaper!$B$3:$B$7,Materialegenskaper!$E$3:$E$7)","v":1.6010114652846357E-5},{"$f":"Egen_LinInt1(O24,Materialegenskaper!$B$3:$B$7,Materialegenskaper!$D$3:$D$7)","v":2.2676709429634807E-5},{"$f":"Egen_LinInt1(O24,Materialegenskaper!$B$3:$B$7,Materialegenskaper!$F$3:$F$7)","v":0.70683284243142652}]
[33.968774851496526,30,700,93.38706852656621,95.715077761152628,11.780999999999999,1.9877834510712957,12.121225783515134,32.590394328909625,16.236803303716364,2.9617472292424827,16.232307464550328,1808.2333399634181,817.08351401932418,302.63438742574823,3.3043171613977656E-3,{"$f":"Egen_LinInt1(O25,Materialegenskaper!$B$3:$B$7,Materialegenskaper!$G$3:$G$7)","v":2.6494944669505371E-2},{"$f":"Egen_LinInt1(O25,Materialegenskaper!$B$3:$B$7,Materialegenskaper!$E$3:$E$7)","v":1.615501937503027E-5},{"$f":"Egen_LinInt1(O25,Materialegenskaper!$B$3:$B$7,Materialegenskaper!$D$3:$D$7)","v":2.288988933901074E-5},{"$f":"Egen_LinInt1(O25,Materialegenskaper!$B$3:$B$7,Materialegenskaper!$F$3:$F$7)","v":0.70663118576039519}]
[36.745520593821844,40,700,90.001509860811353,96.721925767319803,11.780999999999999,2.6396014994620898,15.861814407046355,32.565427933328031,16.161694547766945,3.1264406159863021,16.156033350890571,2316.2529378553113,810.07986371456013,304.02276029691092,3.2892274217344534E-3,{"$f":"Egen_LinInt1(O26,Materialegenskaper!$B$3:$B$7,Materialegenskaper!$G$3:$G$7)","v":2.659768426197141E-2},{"$f":"Egen_LinInt1(O26,Materialegenskaper!$B$3:$B$7,Materialegenskaper!$E$3:$E$7)","v":1.6294689685869237E-5},{"$f":"Egen_LinInt1(O26,Materialegenskaper!$B$3:$B$7,Materialegenskaper!$D$3:$D$7)","v":2.3095368523942816E-5},{"$f":"Egen_LinInt1(O26,Materialegenskaper!$B$3:$B$7,Materialegenskaper!$F$3:$F$7)","v":0.70643681355843246}]
[39.421601053910003,50,700,86.72684753216906,97.692272542147762,11.780999999999999,3.2845903958578013,19.461834614120885,32.542169007823212,16.090252471205591,3.2563947601838268,16.083499840126407,2784.4483637228509,803.44279948182884,305.36080052695496,3.2748145743471992E-3,{"$f":"Egen_LinInt1(O27,Materialegenskaper!$B$3:$B$7,Materialegenskaper!$G$3:$G$7)","v":2.6696699238994669E-2},{"$f":"Egen_LinInt1(O27,Materialegenskaper!$B$3:$B$7,Materialegenskaper!$E$3:$E$7)","v":1.6429296533011668E-5},{"$f":"Egen_LinInt1(O27,Materialegenskaper!$B$3:$B$7,Materialegenskaper!$D$3:$D$7)","v":2.3293398477989336E-5},{"$f":"Egen_LinInt1(O27,Materialegenskaper!$B$3:$B$7,Materialegenskaper!$F$3:$F$7)","v":0.70624948792622622}]
[42.00031359334195,60,700,83.559824707649781,98.627313708945778,11.780999999999999,3.9219843302324091,22.926504671063586,32.520492317594211,16.022271963995529,3.3629611723136441,16.014492109877079,3216.5779867772239,797.1493083799196,306.65015679667096,3.261045128579749E-3,{"$f":"Egen_LinInt1(O28,Materialegenskaper!$B$3:$B$7,Materialegenskaper!$G$3:$G$7)","v":2.6792111602953653E-2},{"$f":"Egen_LinInt1(O28,Materialegenskaper!$B$3:$B$7,Materialegenskaper!$E$3:$E$7)","v":1.6559005773745097E-5},{"$f":"Egen_LinInt1(O28,Materialegenskaper!$B$3:$B$7,Materialegenskaper!$D$3:$D$7)","v":2.3484223205907303E-5},{"$f":"Egen_LinInt1(O28,Materialegenskaper!$B$3:$B$7,Materialegenskaper!$F$3:$F$7)","v":0.70606897804846602}]
[44.484858735910713,70,700,80.497314829565369,99.528209777641223,11.780999999999999,4.5510822689226877,26.26081267915318,32.500279538303168,15.957560453128272,3.4526071092276243,15.948810890210444,3615.9832758423704,791.17820030369353,307.89242936795534,3.2478875887036584E-3,{"$f":"Egen_LinInt1(O29,Materialegenskaper!$B$3:$B$7,Materialegenskaper!$G$3:$G$7)","v":2.6884039773228695E-2},{"$f":"Egen_LinInt1(O29,Materialegenskaper!$B$3:$B$7,Materialegenskaper!$E$3:$E$7)","v":1.6683978394416306E-5},{"$f":"Egen_LinInt1(O29,Materialegenskaper!$B$3:$B$7,Materialegenskaper!$D$3:$D$7)","v":2.3668079546457391E-5},{"$f":"Egen_LinInt1(O29,Materialegenskaper!$B$3:$B$7,Materialegenskaper!$F$3:$F$7)","v":0.70589505988848622}]
[46.878344041191824,80,700,77.536307022345667,100.39608754933616,11.780999999999999,5.1712465449692901,29.469533982021204,32.481420724327009,15.895937868671266,3.5294077260265233,15.886271017093703,3985.6419435901935,785.50992664419357,309.08917202059587,3.2353122998866036E-3,{"$f":"Egen_LinInt1(O30,Materialegenskaper!$B$3:$B$7,Materialegenskaper!$G$3:$G$7)","v":2.6972598729524094E-2},{"$f":"Egen_LinInt1(O30,Materialegenskaper!$B$3:$B$7,Materialegenskaper!$E$3:$E$7)","v":1.6804370705271944E-5},{"$f":"Egen_LinInt1(O30,Materialegenskaper!$B$3:$B$7,Materialegenskaper!$D$3:$D$7)","v":2.384519745904819E-5},{"$f":"Egen_LinInt1(O30,Materialegenskaper!$B$3:$B$7,Materialegenskaper!$F$3:$F$7)","v":0.70572751591711658}]
[49.183787544204016,90,700,74.673893536374891,101.23204136352838,11.780999999999999,5.781901186643787,32.557246640509696,32.463814401004008,15.837235997240375,3.5961147647812468,15.826700151169316,4328.2134390190222,780.12642063837438,310.241893772102,3.2232913093761012E-3,{"$f":"Egen_LinInt1(O31,Materialegenskaper!$B$3:$B$7,Materialegenskaper!$G$3:$G$7)","v":2.705790013913555E-2},{"$f":"Egen_LinInt1(O31,Materialegenskaper!$B$3:$B$7,Materialegenskaper!$E$3:$E$7)","v":1.6920334513473461E-5},{"$f":"Egen_LinInt1(O31,Materialegenskaper!$B$3:$B$7,Materialegenskaper!$D$3:$D$7)","v":2.4015800278271097E-5},{"$f":"Egen_LinInt1(O31,Materialegenskaper!$B$3:$B$7,Materialegenskaper!$F$3:$F$7)","v":0.70556613487190567}]
[51.404120821728377,100,700,71.907259088392749,102.03713420995871,11.780999999999999,6.3825300207750555,35.528345100790922,32.447367182517695,15.781297669792558,3.6546825423698865,15.769937639975737,4646.0780143780885,775.01095642776409,311.35206041086417,3.2117982411305939E-3,{"$f":"Egen_LinInt1(O32,Materialegenskaper!$B$3:$B$7,Materialegenskaper!$G$3:$G$7)","v":2.714005247040395E-2},{"$f":"Egen_LinInt1(O32,Materialegenskaper!$B$3:$B$7,Materialegenskaper!$E$3:$E$7)","v":1.7032017277332934E-5},{"$f":"Egen_LinInt1(O32,Materialegenskaper!$B$3:$B$7,Materialegenskaper!$D$3:$D$7)","v":2.4180104940807897E-5},{"$f":"Egen_LinInt1(O32,Materialegenskaper!$B$3:$B$7,Materialegenskaper!$F$3:$F$7)","v":0.70541071154247903}]
[53.542191741677826,110,700,69.23367188382035,102.81239872553238,11.780999999999999,6.9726745865346969,38.387052255177338,32.431993227475004,15.72797593273677,3.7065534459356688,15.715833504903472,4941.3703772099516,770.14802429705446,312.42109587083888,3.2008081823431665E-3,{"$f":"Egen_LinInt1(O33,Materialegenskaper!$B$3:$B$7,Materialegenskaper!$G$3:$G$7)","v":2.7219161094442078E-2},{"$f":"Egen_LinInt1(O33,Materialegenskaper!$B$3:$B$7,Materialegenskaper!$E$3:$E$7)","v":1.7139562244606392E-5},{"$f":"Egen_LinInt1(O33,Materialegenskaper!$B$3:$B$7,Materialegenskaper!$D$3:$D$7)","v":2.4338322188884157E-5},{"$f":"Egen_LinInt1(O33,Materialegenskaper!$B$3:$B$7,Materialegenskaper!$F$3:$F$7)","v":0.70526104657808253}]
[55.600766945526928,120,700,66.650476101650156,103.55883809444808,11.780999999999999,7.5519318935580424,41.137430099239879,32.417613654200629,15.677133256116656,3.7528247139343311,15.664247536894948,5216.0087634746897,765.52321994489103,313.45038347276346,3.1902975805001453E-3,{"$f":"Egen_LinInt1(O34,Materialegenskaper!$B$3:$B$7,Materialegenskaper!$G$3:$G$7)","v":2.7295328376984496E-2},{"$f":"Egen_LinInt1(O34,Materialegenskaper!$B$3:$B$7,Materialegenskaper!$E$3:$E$7)","v":1.7243108577360004E-5},{"$f":"Egen_LinInt1(O34,Materialegenskaper!$B$3:$B$7,Materialegenskaper!$D$3:$D$7)","v":2.4490656753968992E-5},{"$f":"Egen_LinInt1(O34,Materialegenskaper!$B$3:$B$7,Materialegenskaper!$F$3:$F$7)","v":0.70511694631381305}]
[57.582534107289419,130,700,64.15508563830079,104.27742686730313,11.780999999999999,8.1199520561402405,43.783389172862101,32.404155966503971,15.628640797532183,3.7943516239286179,15.615048487197797,5471.7201257512088,761.12314595866428,314.44126705364471,3.1802441497902905E-3,{"$f":"Egen_LinInt1(O35,Materialegenskaper!$B$3:$B$7,Materialegenskaper!$G$3:$G$7)","v":2.7368653761969709E-2},{"$f":"Egen_LinInt1(O35,Materialegenskaper!$B$3:$B$7,Materialegenskaper!$E$3:$E$7)","v":1.7342791465596655E-5},{"$f":"Egen_LinInt1(O35,Materialegenskaper!$B$3:$B$7,Materialegenskaper!$D$3:$D$7)","v":2.4637307523939417E-5},{"$f":"Egen_LinInt1(O35,Materialegenskaper!$B$3:$B$7,Materialegenskaper!$F$3:$F$7)","v":0.70497822261248966}]
[59.490104006477239,140,700,61.744978928041597,104.96911171274864,11.780999999999999,8.6764358329468863,46.328696951760158,32.391553511039611,15.582377726379308,3.8318143508319862,15.568113341423279,5710.0620147468881,756.93532393276644,315.39505200323862,3.1706267858309062E-3,{"$f":"Egen_LinInt1(O36,Materialegenskaper!$B$3:$B$7,Materialegenskaper!$G$3:$G$7)","v":2.7439233848239659E-2},{"$f":"Egen_LinInt1(O36,Materialegenskaper!$B$3:$B$7,Materialegenskaper!$E$3:$E$7)","v":1.7438742231525805E-5},{"$f":"Egen_LinInt1(O36,Materialegenskaper!$B$3:$B$7,Materialegenskaper!$D$3:$D$7)","v":2.4778467696479315E-5},{"$f":"Egen_LinInt1(O36,Materialegenskaper!$B$3:$B$7,Materialegenskaper!$F$3:$F$7)","v":0.70484469271954653}]
[61.326012447051454,150,700,59.417694679137092,105.63481211330087,11.780999999999999,9.2211320993057093,48.776985334858061,32.379744974173384,15.538230607108719,3.8657629614413564,15.523326666801236,5932.4416375971996,752.94811589439485,316.31300622352569,3.1614254878072896E-3,{"$f":"Egen_LinInt1(O37,Materialegenskaper!$B$3:$B$7,Materialegenskaper!$G$3:$G$7)","v":2.7507162460540902E-2},{"$f":"Egen_LinInt1(O37,Materialegenskaper!$B$3:$B$7,Materialegenskaper!$E$3:$E$7)","v":1.7531088426086683E-5},{"$f":"Egen_LinInt1(O37,Materialegenskaper!$B$3:$B$7,Materialegenskaper!$D$3:$D$7)","v":2.4914324921081803E-5},{"$f":"Egen_LinInt1(O37,Materialegenskaper!$B$3:$B$7,Materialegenskaper!$F$3:$F$7)","v":0.70471617912870632}]
[63.092722049592886,160,700,57.170828384982691,106.27542101518239,11.780999999999999,9.7538352767581884,51.131757353441508,32.368673920142029,15.496092837807421,3.8966486719192428,15.480580023911502,6140.1324985961783,749.15065388992457,317.19636102479643,3.1526212872342069E-3,{"$f":"Egen_LinInt1(O38,Materialegenskaper!$B$3:$B$7,Materialegenskaper!$G$3:$G$7)","v":2.7572530715834934E-2},{"$f":"Egen_LinInt1(O38,Materialegenskaper!$B$3:$B$7,Materialegenskaper!$E$3:$E$7)","v":1.7619953919094521E-5},{"$f":"Egen_LinInt1(O38,Materialegenskaper!$B$3:$B$7,Materialegenskaper!$D$3:$D$7)","v":2.5045061431669872E-5},{"$f":"Egen_LinInt1(O38,Materialegenskaper!$B$3:$B$7,Materialegenskaper!$F$3:$F$7)","v":0.7045925094565284}]
[64.792623939735762,170,700,55.002029487675458,106.8918054405482,11.780999999999999,10.274382742185511,53.396393210687222,32.358288369425885,15.455864139561468,3.924846155616418,15.439771435348344,6334.2889638134675,745.53277674432206,318.04631196986787,3.144196182645065E-3,{"$f":"Egen_LinInt1(O39,Materialegenskaper!$B$3:$B$7,Materialegenskaper!$G$3:$G$7)","v":2.7635427085770221E-2},{"$f":"Egen_LinInt1(O39,Materialegenskaper!$B$3:$B$7,Materialegenskaper!$E$3:$E$7)","v":1.7705458984168707E-5},{"$f":"Egen_LinInt1(O39,Materialegenskaper!$B$3:$B$7,Materialegenskaper!$D$3:$D$7)","v":2.5170854171540446E-5},{"$f":"Egen_LinInt1(O39,Materialegenskaper!$B$3:$B$7,Materialegenskaper!$F$3:$F$7)","v":0.70447351632421851}]
[66.428039352263752,180,700,52.908999087618234,107.48480706913084,11.780999999999999,10.782652236512046,55.574155745000546,32.348540414962166,15.417450091925863,3.9506698369494155,15.400804904776244,6515.9590379385309,742.08497314096246,318.86401967613187,3.1361330795982986E-3,{"$f":"Egen_LinInt1(O40,Materialegenskaper!$B$3:$B$7,Materialegenskaper!$G$3:$G$7)","v":2.769593745603376E-2},{"$f":"Egen_LinInt1(O40,Materialegenskaper!$B$3:$B$7,Materialegenskaper!$E$3:$E$7)","v":1.7787720379418865E-5},{"$f":"Egen_LinInt1(O40,Materialegenskaper!$B$3:$B$7,Materialegenskaper!$D$3:$D$7)","v":2.5291874912067517E-5},{"$f":"Egen_LinInt1(O40,Materialegenskaper!$B$3:$B$7,Materialegenskaper!$F$3:$F$7)","v":0.70435903724534155}]
[68.001221167104035,{"$f":"B40+10","v":190},700,50.889488107017968,108.05524279519193,11.780999999999999,11.278559290752575,57.668195397421385,{"$f":"Q41*J41/$E$7","v":32.339385873316516},{"$f":"(K41^4+L41^4)^(1/4)","v":15.380761710017957},{"$f":"(0.6+(0.387*(M41^(1/6)))/((1+(0.559/T41)^(9/16))^(8/27)))^2","v":3.9743860345625293},{"$f":"0.65*N41^(0.2)+0.23*N41^(0.61)","v":15.363589980689543},{"$f":"$C$11*P41*(A41-$E$15)*$E$7^3/(R41*S41)","v":6686.0955975861962},{"$f":"$E$12*$E$7/R41","v":738.7983302837423},{"$f":"(A41+$E$15)/2+273.15","v":319.65061058355201},{"$f":"1/O41","v":3.128415735463188E-3},{"$f":"Egen_LinInt1(O41,Materialegenskaper!$B$3:$B$7,Materialegenskaper!$G$3:$G$7)","v":2.7754145183182848E-2},{"$f":"Egen_LinInt1(O41,Materialegenskaper!$B$3:$B$7,Materialegenskaper!$E$3:$E$7)","v":1.7866851424705331E-5},{"$f":"Egen_LinInt1(O41,Materialegenskaper!$B$3:$B$7,Materialegenskaper!$D$3:$D$7)","v":2.5408290366365698E-5},{"$f":"Egen_LinInt1(O41,Materialegenskaper!$B$3:$B$7,Materialegenskaper!$F$3:$F$7)","v":0.70424891451830263}]
[69.514355390715295,{"$f":"B41+10","v":200},700,48.94129582768214,108.60390526467337,11.780999999999999,11.762054685025918,59.681554751965308,32.330783967815258,15.345715059078476,3.9962221721232392,15.328041359918705,6845.5662885486381,735.66448750083521,320.40717769535763,3.1210287085103867E-3,{"$f":"Egen_LinInt1(O42,Materialegenskaper!$B$3:$B$7,Materialegenskaper!$G$3:$G$7)","v":2.7810131149456463E-2},{"$f":"Egen_LinInt1(O42,Materialegenskaper!$B$3:$B$7,Materialegenskaper!$E$3:$E$7)","v":1.7942962076152975E-5},{"$f":"Egen_LinInt1(O42,Materialegenskaper!$B$3:$B$7,Materialegenskaper!$D$3:$D$7)","v":2.5520262298912929E-5},{"$f":"Egen_LinInt1(O42,Materialegenskaper!$B$3:$B$7,Materialegenskaper!$F$3:$F$7)","v":0.70414299512264988}]
[70.969562593998916,210,700,47.062268734529489,109.131563396584,11.780999999999999,12.233121954120488,61.617172707934024,32.322697040723732,15.312230902718371,4.0163738745004061,15.294078526552715,6995.1622637613009,732.67559423265675,321.13478129699945,3.1139573108873446E-3,{"$f":"Egen_LinInt1(O43,Materialegenskaper!$B$3:$B$7,Materialegenskaper!$G$3:$G$7)","v":2.7863973815977959E-2},{"$f":"Egen_LinInt1(O43,Materialegenskaper!$B$3:$B$7,Materialegenskaper!$E$3:$E$7)","v":1.8016158998478143E-5},{"$f":"Egen_LinInt1(O43,Materialegenskaper!$B$3:$B$7,Materialegenskaper!$D$3:$D$7)","v":2.5627947631955918E-5},{"$f":"Egen_LinInt1(O43,Materialegenskaper!$B$3:$B$7,Materialegenskaper!$F$3:$F$7)","v":0.70404113061842}]
[72.368899315823512,220,700,45.250299605890724,109.6389628919176,11.780999999999999,12.691774951275155,63.477888334751732,32.315090291731444,15.280234381445283,4.035010511002505,15.261625422485517,7135.6059129936566,729.8242719178246,321.8344496579117,3.1071875651066333E-3,{"$f":"Egen_LinInt1(O44,Materialegenskaper!$B$3:$B$7,Materialegenskaper!$G$3:$G$7)","v":2.7915749274685465E-2},{"$f":"Egen_LinInt1(O44,Materialegenskaper!$B$3:$B$7,Materialegenskaper!$E$3:$E$7)","v":1.8086545635585917E-5},{"$f":"Egen_LinInt1(O44,Materialegenskaper!$B$3:$B$7,Materialegenskaper!$D$3:$D$7)","v":2.5731498549370933E-5},{"$f":"Egen_LinInt1(O44,Materialegenskaper!$B$3:$B$7,Materialegenskaper!$F$3:$F$7)","v":0.70394317704789233}]
[73.714359439500683,230,700,43.503326800143199,110.12682673276295,11.780999999999999,13.138055480041237,65.266444452578511,32.307931540219691,15.249654718419796,4.0522795794681628,15.230610146258662,7267.5577136135798,727.10357935203263,322.5071797197503,3.1007061637169505E-3,{"$f":"Egen_LinInt1(O45,Materialegenskaper!$B$3:$B$7,Materialegenskaper!$G$3:$G$7)","v":2.796553129926152E-2},{"$f":"Egen_LinInt1(O45,Materialegenskaper!$B$3:$B$7,Materialegenskaper!$E$3:$E$7)","v":1.8154222279806878E-5},{"$f":"Egen_LinInt1(O45,Materialegenskaper!$B$3:$B$7,Materialegenskaper!$D$3:$D$7)","v":2.5831062598523045E-5},{"$f":"Egen_LinInt1(O45,Materialegenskaper!$B$3:$B$7,Materialegenskaper!$F$3:$F$7)","v":0.70384899483923491}]
[75.007875548049697,240,700,41.819333695642058,110.59585567372282,11.780999999999999,13.572031002420095,66.985490975660667,32.301191009011234,15.220424949719641,4.0683102124187105,15.20096467727363,7391.6223135029177,724.50698114737065,323.15393777402483,3.0945004318631581E-3,{"$f":"Egen_LinInt1(O46,Materialegenskaper!$B$3:$B$7,Materialegenskaper!$G$3:$G$7)","v":2.8013391395277837E-2},{"$f":"Egen_LinInt1(O46,Materialegenskaper!$B$3:$B$7,Materialegenskaper!$E$3:$E$7)","v":1.8219286140066898E-5},{"$f":"Egen_LinInt1(O46,Materialegenskaper!$B$3:$B$7,Materialegenskaper!$D$3:$D$7)","v":2.5926782790555675E-5},{"$f":"Egen_LinInt1(O46,Materialegenskaper!$B$3:$B$7,Materialegenskaper!$F$3:$F$7)","v":0.70375844871163651}]
[76.251320262809344,250,700,40.196348247404842,111.04672872729466,11.780999999999999,13.993792429929915,68.637588049959916,32.294841127520108,15.192481676686365,4.0832160094386785,15.172624622794324,7508.3539417467018,722.02831896499151,323.77566013140466,3.0885582924737118E-3,{"$f":"Egen_LinInt1(O47,Materialegenskaper!$B$3:$B$7,Materialegenskaper!$G$3:$G$7)","v":2.8059398849723943E-2},{"$f":"Egen_LinInt1(O47,Materialegenskaper!$B$3:$B$7,Materialegenskaper!$E$3:$E$7)","v":1.8281831409219309E-5},{"$f":"Egen_LinInt1(O47,Materialegenskaper!$B$3:$B$7,Materialegenskaper!$D$3:$D$7)","v":2.6018797699447889E-5},{"$f":"Egen_LinInt1(O47,Materialegenskaper!$B$3:$B$7,Materialegenskaper!$F$3:$F$7)","v":0.70367140758160329}]
[77.44650756886827,260,700,38.632442629686238,111.48010364447164,11.780999999999999,14.403452002842657,70.225209011942738,32.288856352425924,15.165764838195074,4.097097346252867,15.14552898546237,7618.2612296102334,719.66178523327721,324.3732537844341,3.0828682338419964E-3,{"$f":"Egen_LinInt1(O48,Materialegenskaper!$B$3:$B$7,Materialegenskaper!$G$3:$G$7)","v":2.8103620780048123E-2},{"$f":"Egen_LinInt1(O48,Materialegenskaper!$B$3:$B$7,Materialegenskaper!$E$3:$E$7)","v":1.8341949330714069E-5},{"$f":"Egen_LinInt1(O48,Materialegenskaper!$B$3:$B$7,Materialegenskaper!$D$3:$D$7)","v":2.6107241560096245E-5},{"$f":"Egen_LinInt1(O48,Materialegenskaper!$B$3:$B$7,Materialegenskaper!$F$3:$F$7)","v":0.70358774447017913}]
[78.595194129867792,270,700,37.125732938544587,111.89661739149005,11.780999999999999,14.801141261548658,71.750743191396822,32.283213004184589,15.140217500923482,4.1100432729162391,15.119619949309358,7721.811513171182,717.40189909766673,324.94759706493386,3.0774192793928288E-3,{"$f":"Egen_LinInt1(O49,Materialegenskaper!$B$3:$B$7,Materialegenskaper!$G$3:$G$7)","v":2.8146122182805107E-2},{"$f":"Egen_LinInt1(O49,Materialegenskaper!$B$3:$B$7,Materialegenskaper!$E$3:$E$7)","v":1.8399728264732344E-5},{"$f":"Egen_LinInt1(O49,Materialegenskaper!$B$3:$B$7,Materialegenskaper!$D$3:$D$7)","v":2.6192244365610211E-5},{"$f":"Egen_LinInt1(O49,Materialegenskaper!$B$3:$B$7,Materialegenskaper!$F$3:$F$7)","v":0.70350733641090923}]
[79.699080593960886,280,700,35.674378932825647,112.29688662337021,11.780999999999999,15.187009112846047,73.216498577698516,32.277889117861235,15.115785665906964,4.1221330861559302,15.094842682479758,7819.4346794700905,715.24348437785932,325.4995402969804,3.0722009594471825E-3,{"$f":"Egen_LinInt1(O50,Materialegenskaper!$B$3:$B$7,Materialegenskaper!$G$3:$G$7)","v":2.818696598197655E-2},{"$f":"Egen_LinInt1(O50,Materialegenskaper!$B$3:$B$7,Materialegenskaper!$E$3:$E$7)","v":1.8455253753876227E-5},{"$f":"Egen_LinInt1(O50,Materialegenskaper!$B$3:$B$7,Materialegenskaper!$D$3:$D$7)","v":2.62739319639531E-5},{"$f":"Egen_LinInt1(O50,Materialegenskaper!$B$3:$B$7,Materialegenskaper!$F$3:$F$7)","v":0.7034300643584227}]
[80.759812892069633,290,700,34.276583795759919,112.68150815466446,11.780999999999999,15.561219992913733,74.624704365990794,32.272864306924625,15.092418089851076,4.1334376409333951,15.071145155077257,7911.526609920189,713.18164933382411,326.02990644603477,3.0672032848174384E-3,{"$f":"Egen_LinInt1(O51,Materialegenskaper!$B$3:$B$7,Materialegenskaper!$G$3:$G$7)","v":2.8226213077006575E-2},{"$f":"Egen_LinInt1(O51,Materialegenskaper!$B$3:$B$7,Materialegenskaper!$E$3:$E$7)","v":1.8508608588471098E-5},{"$f":"Egen_LinInt1(O51,Materialegenskaper!$B$3:$B$7,Materialegenskaper!$D$3:$D$7)","v":2.6352426154013148E-5},{"$f":"Egen_LinInt1(O51,Materialegenskaper!$B$3:$B$7,Materialegenskaper!$F$3:$F$7)","v":0.70335581309755513}]
[81.778983529054102,300,700,32.930593902639401,113.05105942763501,11.780999999999999,15.923952127802819,75.977513397192794,32.268119638781634,15.070066119837383,4.1440204515392045,15.048477970722491,7998.4522677589639,711.2117680645008,326.53949176452704,3.0624167220824742E-3,{"$f":"Egen_LinInt1(O52,Materialegenskaper!$B$3:$B$7,Materialegenskaper!$G$3:$G$7)","v":2.8263922390575E-2},{"$f":"Egen_LinInt1(O52,Materialegenskaper!$B$3:$B$7,Materialegenskaper!$E$3:$E$7)","v":1.8559872871511418E-5},{"$f":"Egen_LinInt1(O52,Materialegenskaper!$B$3:$B$7,Materialegenskaper!$D$3:$D$7)","v":2.6427844781150001E-5},{"$f":"Egen_LinInt1(O52,Materialegenskaper!$B$3:$B$7,Materialegenskaper!$F$3:$F$7)","v":0.70328447115296622}]
[82.758132867973387,310,700,31.634698582872872,113.40609897792716,11.780999999999999,16.275395891466577,77.277004503587705,32.263637520955704,15.048683540203513,4.153938621502534,15.026794210563484,8080.5484703485508,709.32946338268789,327.02906643398666,3.0578321704069619E-3,{"$f":"Egen_LinInt1(O53,Materialegenskaper!$B$3:$B$7,Materialegenskaper!$G$3:$G$7)","v":2.8300150916115013E-2},{"$f":"Egen_LinInt1(O53,Materialegenskaper!$B$3:$B$7,Materialegenskaper!$E$3:$E$7)","v":1.8609124083259056E-5},{"$f":"Egen_LinInt1(O53,Materialegenskaper!$B$3:$B$7,Materialegenskaper!$D$3:$D$7)","v":2.6500301832230027E-5},{"$f":"Egen_LinInt1(O53,Materialegenskaper!$B$3:$B$7,Materialegenskaper!$F$3:$F$7)","v":0.70321593069924182}]
[83.698750407271646,320,700,30.387229867164834,113.74716689767669,11.780999999999999,16.615752260638779,78.525184769873093,32.259401596922849,15.028226430506191,4.1632436332613336,15.006049288614671,8158.1263819895203,707.53059102680618,327.49937520363579,3.0534409397825878E-3,{"$f":"Egen_LinInt1(O54,Materialegenskaper!$B$3:$B$7,Materialegenskaper!$G$3:$G$7)","v":2.8334953765069049E-2},{"$f":"Egen_LinInt1(O54,Materialegenskaper!$B$3:$B$7,Materialegenskaper!$E$3:$E$7)","v":1.865643714548576E-5},{"$f":"Egen_LinInt1(O54,Materialegenskaper!$B$3:$B$7,Materialegenskaper!$D$3:$D$7)","v":2.6569907530138098E-5},{"$f":"Egen_LinInt1(O54,Materialegenskaper!$B$3:$B$7,Materialegenskaper!$F$3:$F$7)","v":0.70315008747149099}]
[84.602276050446832,330,700,29.18656221266582,114.07478529589201,11.780999999999999,16.945231365254688,79.723991717971515,32.255396650718829,15.008653033589788,4.1719820221762882,14.986200817419057,8231.4737584774484,705.8112250853103,327.95113802522337,3.0492347305807735E-3,{"$f":"Egen_LinInt1(O55,Materialegenskaper!$B$3:$B$7,Materialegenskaper!$G$3:$G$7)","v":2.8368384213866529E-2},{"$f":"Egen_LinInt1(O55,Materialegenskaper!$B$3:$B$7,Materialegenskaper!$E$3:$E$7)","v":1.8701884485337472E-5},{"$f":"Egen_LinInt1(O55,Materialegenskaper!$B$3:$B$7,Materialegenskaper!$D$3:$D$7)","v":2.6636768427733059E-5},{"$f":"Egen_LinInt1(O55,Materialegenskaper!$B$3:$B$7,Materialegenskaper!$F$3:$F$7)","v":0.70308684067646865}]
[85.470101367547116,340,700,28.031112200740196,114.38945875587258,11.780999999999999,17.264051132584758,80.875295422547623,32.251608519519444,14.98992363288311,4.1801959545684149,14.967208483132689,8300.8569707978804,704.16764452277891,328.38505068377356,3.0452056143170005E-3,{"$f":"Egen_LinInt1(O56,Materialegenskaper!$B$3:$B$7,Materialegenskaper!$G$3:$G$7)","v":2.8400493750599241E-2},{"$f":"Egen_LinInt1(O56,Materialegenskaper!$B$3:$B$7,Materialegenskaper!$E$3:$E$7)","v":1.874553609878762E-5},{"$f":"Egen_LinInt1(O56,Materialegenskaper!$B$3:$B$7,Materialegenskaper!$D$3:$D$7)","v":2.6700987501198487E-5},{"$f":"Egen_LinInt1(O56,Materialegenskaper!$B$3:$B$7,Materialegenskaper!$F$3:$F$7)","v":0.70302609290427165}]
[86.303570847680831,350,700,26.919338203534281,114.69167478936907,11.780999999999999,17.572436022808034,81.980900563026765,32.248024013473824,14.972000438135991,4.1879237256495081,14.949033929222626,8366.5228320353253,702.59632070840223,328.80178542384039,3.0413460155362441E-3,{"$f":"Egen_LinInt1(O57,Materialegenskaper!$B$3:$B$7,Materialegenskaper!$G$3:$G$7)","v":2.8431332121364186E-2},{"$f":"Egen_LinInt1(O57,Materialegenskaper!$B$3:$B$7,Materialegenskaper!$E$3:$E$7)","v":1.8787459613638342E-5},{"$f":"Egen_LinInt1(O57,Materialegenskaper!$B$3:$B$7,Materialegenskaper!$D$3:$D$7)","v":2.6762664242728376E-5},{"$f":"Egen_LinInt1(O57,Materialegenskaper!$B$3:$B$7,Materialegenskaper!$F$3:$F$7)","v":0.70296775004066225}]
[87.103983141612247,360,700,25.849740016820732,114.98190428714859,11.780999999999999,17.870615853385477,83.042548416942381,32.244630842142747,14.954847478886689,4.1952001902281895,14.931640648051886,8428.7002486903857,701.09390585789208,329.20199157080611,3.0376486947373644E-3,{"$f":"Egen_LinInt1(O58,Materialegenskaper!$B$3:$B$7,Materialegenskaper!$G$3:$G$7)","v":2.8460947376239651E-2},{"$f":"Egen_LinInt1(O58,Materialegenskaper!$B$3:$B$7,Materialegenskaper!$E$3:$E$7)","v":1.8827720352023096E-5},{"$f":"Egen_LinInt1(O58,Materialegenskaper!$B$3:$B$7,Materialegenskaper!$D$3:$D$7)","v":2.6821894752479305E-5},{"$f":"Egen_LinInt1(O58,Materialegenskaper!$B$3:$B$7,Materialegenskaper!$F$3:$F$7)","v":0.70291172118008716}]
[87.87259229344042,370,700,24.820858457690306,115.26060196560151,11.780999999999999,18.158824709296066,84.061918798615125,32.241417546955205,14.938430505020611,4.2020571367163679,14.914993879696588,8487.6017150941807,699.65722230895562,329.5862961467202,3.0341067322618149E-3,{"$f":"Egen_LinInt1(O59,Materialegenskaper!$B$3:$B$7,Materialegenskaper!$G$3:$G$7)","v":2.8489385914857293E-2},{"$f":"Egen_LinInt1(O59,Materialegenskaper!$B$3:$B$7,Materialegenskaper!$E$3:$E$7)","v":1.8866381392360051E-5},{"$f":"Egen_LinInt1(O59,Materialegenskaper!$B$3:$B$7,Materialegenskaper!$D$3:$D$7)","v":2.6878771829714591E-5},{"$f":"Egen_LinInt1(O59,Materialegenskaper!$B$3:$B$7,Materialegenskaper!$F$3:$F$7)","v":0.70285791853945911}]
[88.610608960315929,380,700,23.831274926568938,115.52820680901054,11.780999999999999,18.437299935962773,85.040631946478825,32.238373439153747,14.922716893843527,4.2085236130856218,14.899060517405193,8543.4246674264668,698.28325255853565,329.95530448015796,3.0307135130786646E-3,{"$f":"Egen_LinInt1(O60,Materialegenskaper!$B$3:$B$7,Materialegenskaper!$G$3:$G$7)","v":2.851669253153169E-2},{"$f":"Egen_LinInt1(O60,Materialegenskaper!$B$3:$B$7,Materialegenskaper!$E$3:$E$7)","v":1.8903503630703891E-5},{"$f":"Egen_LinInt1(O60,Materialegenskaper!$B$3:$B$7,Materialegenskaper!$D$3:$D$7)","v":2.6933385063063379E-5},{"$f":"Egen_LinInt1(O60,Materialegenskaper!$B$3:$B$7,Materialegenskaper!$F$3:$F$7)","v":0.7028062573727778}]
[89.319201619134745,390,700,22.879610933790744,115.78514250709826,11.780999999999999,18.706281211515829,85.980250361791676,32.235488542749358,14.907675563147993,4.2146262119215168,14.883809019166677,8596.3527119396149,696.96912999718677,330.30960080956737,3.0274627124039538E-3,{"$f":"Egen_LinInt1(O61,Materialegenskaper!$B$3:$B$7,Materialegenskaper!$G$3:$G$7)","v":2.8542910459907984E-2},{"$f":"Egen_LinInt1(O61,Materialegenskaper!$B$3:$B$7,Materialegenskaper!$E$3:$E$7)","v":1.8939145841442475E-5},{"$f":"Egen_LinInt1(O61,Materialegenskaper!$B$3:$B$7,Materialegenskaper!$D$3:$D$7)","v":2.6985820919815971E-5},{"$f":"Egen_LinInt1(O61,Materialegenskaper!$B$3:$B$7,Materialegenskaper!$F$3:$F$7)","v":0.70275665588666048}]
[89.999497759155361,400,700,21.964527591567332,116.03181788746974,11.780999999999999,18.96600969491158,86.882280600990839,32.232753542051711,14.893276889801045,4.220389320514176,14.869209324905448,8646.5567403252826,695.71213028230125,330.64974887957766,3.0243482820977406E-3,{"$f":"Egen_LinInt1(O62,Materialegenskaper!$B$3:$B$7,Materialegenskaper!$G$3:$G$7)","v":2.8568081417088748E-2},{"$f":"Egen_LinInt1(O62,Materialegenskaper!$B$3:$B$7,Materialegenskaper!$E$3:$E$7)","v":1.8973364737285513E-5},{"$f":"Egen_LinInt1(O62,Materialegenskaper!$B$3:$B$7,Materialegenskaper!$D$3:$D$7)","v":2.7036162834177494E-5},{"$f":"Egen_LinInt1(O62,Materialegenskaper!$B$3:$B$7,Materialegenskaper!$F$3:$F$7)","v":0.70270903515685912}]
[90.652585059510244,410,700,21.084725072687931,116.26862734257841,11.780999999999999,19.216727246339719,87.748175023550772,32.230159733381157,14.879492633425452,4.2258353409428668,14.855232778866007,8694.1959437025689,694.50966329756272,330.97629252975509,3.0213644377870327E-3,{"$f":"Egen_LinInt1(O63,Materialegenskaper!$B$3:$B$7,Materialegenskaper!$G$3:$G$7)","v":2.8592245647201878E-2},{"$f":"Egen_LinInt1(O63,Materialegenskaper!$B$3:$B$7,Materialegenskaper!$E$3:$E$7)","v":1.900621502849336E-5},{"$f":"Egen_LinInt1(O63,Materialegenskaper!$B$3:$B$7,Materialegenskaper!$D$3:$D$7)","v":2.7084491294403753E-5},{"$f":"Egen_LinInt1(O63,Materialegenskaper!$B$3:$B$7,Materialegenskaper!$F$3:$F$7)","v":0.70266331904583423}]
[91.279512550622471,420,700,20.238942037670213,116.49595125085571,11.780999999999999,19.458675716306058,88.579333496879443,32.227698980605226,14.866295864786226,4.2309848843130062,14.841852056790895,8739.4187354271417,693.35926565103603,331.28975627531122,3.0185056466671173E-3,{"$f":"Egen_LinInt1(O64,Materialegenskaper!$B$3:$B$7,Materialegenskaper!$G$3:$G$7)","v":2.8615441964373031E-2},{"$f":"Egen_LinInt1(O64,Materialegenskaper!$B$3:$B$7,Materialegenskaper!$E$3:$E$7)","v":1.9037749481296307E-5},{"$f":"Egen_LinInt1(O64,Materialegenskaper!$B$3:$B$7,Materialegenskaper!$D$3:$D$7)","v":2.7130883928746061E-5},{"$f":"Egen_LinInt1(O64,Materialegenskaper!$B$3:$B$7,Materialegenskaper!$F$3:$F$7)","v":0.70261943412145633}]
[91.881291758589398,430,700,19.425955032378226,116.7141563916645,11.780999999999999,19.692096299764465,89.377105059521796,32.225363674175398,14.853660898529608,4.235856942649141,14.829041097531739,8782.3635917969586,692.25859366880582,331.5906458792947,3.0157666159377097E-3,{"$f":"Egen_LinInt1(O65,Materialegenskaper!$B$3:$B$7,Materialegenskaper!$G$3:$G$7)","v":2.8637707795067809E-2},{"$f":"Egen_LinInt1(O65,Materialegenskaper!$B$3:$B$7,Materialegenskaper!$E$3:$E$7)","v":1.9068018975457047E-5},{"$f":"Egen_LinInt1(O65,Materialegenskaper!$B$3:$B$7,Materialegenskaper!$D$3:$D$7)","v":2.7175415590135615E-5},{"$f":"Egen_LinInt1(O65,Materialegenskaper!$B$3:$B$7,Materialegenskaper!$F$3:$F$7)","v":0.70257730957689868}]
[92.458897831655221,440,700,18.644577858344221,116.92359635375817,11.780999999999999,19.917228951690308,90.142789543723651,32.223146693369166,14.841563229953209,4.2404690414078363,14.816775038765535,8823.1598187410054,691.20541684508419,331.8794489158276,3.0131422818338578E-3,{"$f":"Egen_LinInt1(O66,Materialegenskaper!$B$3:$B$7,Materialegenskaper!$G$3:$G$7)","v":2.865907921977124E-2},{"$f":"Egen_LinInt1(O66,Materialegenskaper!$B$3:$B$7,Materialegenskaper!$E$3:$E$7)","v":1.9097072560932256E-5},{"$f":"Egen_LinInt1(O66,Materialegenskaper!$B$3:$B$7,Materialegenskaper!$D$3:$D$7)","v":2.7218158439542484E-5},{"$f":"Egen_LinInt1(O66,Materialegenskaper!$B$3:$B$7,Materialegenskaper!$F$3:$F$7)","v":0.70253687715178414}]
[93.013270647960965,450,700,17.893660918182931,117.12461193695064,11.780999999999999,20.13431186052857,90.877639158239134,32.221041371469035,14.829979475514449,4.2448373751280792,14.805030156517411,8861.9282517057563,690.19761171330879,332.15663532398048,3.0106277992147149E-3,{"$f":"Egen_LinInt1(O67,Materialegenskaper!$B$3:$B$7,Materialegenskaper!$G$3:$G$7)","v":2.8679591013974555E-2},{"$f":"Egen_LinInt1(O67,Materialegenskaper!$B$3:$B$7,Materialegenskaper!$E$3:$E$7)","v":1.9124957513592437E-5},{"$f":"Egen_LinInt1(O67,Materialegenskaper!$B$3:$B$7,Materialegenskaper!$D$3:$D$7)","v":2.7259182027949111E-5},{"$f":"Egen_LinInt1(O67,Materialegenskaper!$B$3:$B$7,Materialegenskaper!$F$3:$F$7)","v":0.70249807105464268}]
[93.545315903831082,460,700,17.1720905385843,117.31753154672914,11.780999999999999,20.343580976014142,91.582860032130696,32.219041463634383,14.818887316810123,4.2489769283655994,14.793783808217285,8898.7818951843819,689.23315610597535,332.42265795191554,3.0082185316761666E-3,{"$f":"Egen_LinInt1(O68,Materialegenskaper!$B$3:$B$7,Materialegenskaper!$G$3:$G$7)","v":2.8699276688441751E-2},{"$f":"Egen_LinInt1(O68,Materialegenskaper!$B$3:$B$7,Materialegenskaper!$E$3:$E$7)","v":1.9151719389962704E-5},{"$f":"Egen_LinInt1(O68,Materialegenskaper!$B$3:$B$7,Materialegenskaper!$D$3:$D$7)","v":2.72985533768835E-5},{"$f":"Egen_LinInt1(O68,Materialegenskaper!$B$3:$B$7,Materialegenskaper!$F$3:$F$7)","v":0.70246082788673181}]
[94.055906181930183,470,700,16.478788273419781,117.5026715815679,11.780999999999999,20.545269587942624,92.259613720205479,32.217141117243258,14.808265447782601,4.2529015837476187,14.783014379041132,8933.8265076535681,688.31012377383286,332.67795309096505,3.0059100421558961E-3,{"$f":"Egen_LinInt1(O69,Materialegenskaper!$B$3:$B$7,Materialegenskaper!$G$3:$G$7)","v":2.8718168528731412E-2},{"$f":"Egen_LinInt1(O69,Materialegenskaper!$B$3:$B$7,Materialegenskaper!$E$3:$E$7)","v":1.9177402080951084E-5},{"$f":"Egen_LinInt1(O69,Materialegenskaper!$B$3:$B$7,Materialegenskaper!$D$3:$D$7)","v":2.7336337057462826E-5},{"$f":"Egen_LinInt1(O69,Materialegenskaper!$B$3:$B$7,Materialegenskaper!$F$3:$F$7)","v":0.70242508656726488}]
[94.545881998698448,480,700,15.812710189506703,117.68033681272806,11.780999999999999,20.739607952565748,92.909018670655612,32.215334844501328,14.798093524929078,4.2566242187247445,14.772701231308908,8967.1611370803985,687.42667933767166,332.92294099934918,3.0036980840018319E-3,{"$f":"Egen_LinInt1(O70,Materialegenskaper!$B$3:$B$7,Materialegenskaper!$G$3:$G$7)","v":2.873629763395184E-2},{"$f":"Egen_LinInt1(O70,Materialegenskaper!$B$3:$B$7,Materialegenskaper!$E$3:$E$7)","v":1.9202047864534527E-5},{"$f":"Egen_LinInt1(O70,Materialegenskaper!$B$3:$B$7,Materialegenskaper!$D$3:$D$7)","v":2.7372595267903676E-5},{"$f":"Egen_LinInt1(O70,Materialegenskaper!$B$3:$B$7,Materialegenskaper!$F$3:$F$7)","v":0.70239078826009105}]
[95.016052830550251,490,700,15.172846137550678,117.85082075635751,11.780999999999999,20.9268229633937,93.532151655413131,32.213617497132887,14.788352120309046,4.2601567923780745,14.762824656730253,8998.8786116281462,686.58107354827393,333.15802641527512,3.00157859247707E-3,{"$f":"Egen_LinInt1(O71,Materialegenskaper!$B$3:$B$7,Materialegenskaper!$G$3:$G$7)","v":2.8753693954730358E-2},{"$f":"Egen_LinInt1(O71,Materialegenskaper!$B$3:$B$7,Materialegenskaper!$E$3:$E$7)","v":1.9225697457376676E-5},{"$f":"Egen_LinInt1(O71,Materialegenskaper!$B$3:$B$7,Materialegenskaper!$D$3:$D$7)","v":2.7407387909460718E-5},{"$f":"Egen_LinInt1(O71,Materialegenskaper!$B$3:$B$7,Materialegenskaper!$F$3:$F$7)","v":0.70235787630186142}]
[95.467198118395061,500,0,-103.45618702699076,0,11.780999999999999,21.107137863301912,94.130049163688852,32.2119842429844,14.779022677161558,4.2635104234548002,14.753365831305986,9029.0659897156547,685.77163883219373,333.38359905919754,2.9995476766763026E-3,{"$f":"Egen_LinInt1(O72,Materialegenskaper!$B$3:$B$7,Materialegenskaper!$G$3:$G$7)","v":2.8770386330380617E-2},{"$f":"Egen_LinInt1(O72,Materialegenskaper!$B$3:$B$7,Materialegenskaper!$E$3:$E$7)","v":1.9248390065355269E-5},{"$f":"Egen_LinInt1(O72,Materialegenskaper!$B$3:$B$7,Materialegenskaper!$D$3:$D$7)","v":2.7440772660761234E-5},{"$f":"Egen_LinInt1(O72,Materialegenskaper!$B$3:$B$7,Materialegenskaper!$F$3:$F$7)","v":0.70232629613171227}]
[92.391059940198716,510,0,-98.162597023591374,0,11.780999999999999,19.890732512425991,90.052864511165382,32.22340582926995,14.842982553624948,4.2399305942711285,14.818214112301748,8818.3898220524097,691.32894281331698,331.84552997009934,3.0134502643145568E-3,{"$f":"Egen_LinInt1(O73,Materialegenskaper!$B$3:$B$7,Materialegenskaper!$G$3:$G$7)","v":2.865656921778735E-2},{"$f":"Egen_LinInt1(O73,Materialegenskaper!$B$3:$B$7,Materialegenskaper!$E$3:$E$7)","v":1.9093660314991994E-5},{"$f":"Egen_LinInt1(O73,Materialegenskaper!$B$3:$B$7,Materialegenskaper!$D$3:$D$7)","v":2.7213138435574702E-5},{"$f":"Egen_LinInt1(O73,Materialegenskaper!$B$3:$B$7,Materialegenskaper!$F$3:$F$7)","v":0.702541625804186}]
[89.472319930030039,520,0,-93.166893720877368,0,11.780999999999999,18.764612480261604,86.183281240615756,32.234870002678363,14.90443118629277,4.2159314656890983,14.880519333065322,8607.7043571803606,696.68581361102736,330.386159965015,3.0267611697351103E-3,{"$f":"Egen_LinInt1(O74,Materialegenskaper!$B$3:$B$7,Materialegenskaper!$G$3:$G$7)","v":2.8548575837411109E-2},{"$f":"Egen_LinInt1(O74,Materialegenskaper!$B$3:$B$7,Materialegenskaper!$E$3:$E$7)","v":1.8946847692480508E-5},{"$f":"Egen_LinInt1(O74,Materialegenskaper!$B$3:$B$7,Materialegenskaper!$D$3:$D$7)","v":2.699715167482222E-5},{"$f":"Egen_LinInt1(O74,Materialegenskaper!$B$3:$B$7,Materialegenskaper!$F$3:$F$7)","v":0.7027459376048979}]
[86.702120805602789,530,0,-88.449200805791023,0,11.780999999999999,17.720660246365856,82.509540559425162,32.246328447014093,14.963452201412332,4.1915644198548989,14.940365898447403,8397.5904796875056,701.84741800347729,329.00106040280139,3.039503881159786E-3,{"$f":"Egen_LinInt1(O75,Materialegenskaper!$B$3:$B$7,Materialegenskaper!$G$3:$G$7)","v":2.8446078469807304E-2},{"$f":"Egen_LinInt1(O75,Materialegenskaper!$B$3:$B$7,Materialegenskaper!$E$3:$E$7)","v":1.8807506676521819E-5},{"$f":"Egen_LinInt1(O75,Materialegenskaper!$B$3:$B$7,Materialegenskaper!$D$3:$D$7)","v":2.6792156939614604E-5},{"$f":"Egen_LinInt1(O75,Materialegenskaper!$B$3:$B$7,Materialegenskaper!$F$3:$F$7)","v":0.70293985154360772}]
[84.072196281527056,540,0,-83.991324168231642,0,11.780999999999999,16.751629798113274,79.020694370118363,32.257738699486524,15.020127217920415,4.1668787949952986,14.997836217738534,8188.5806184142293,706.81892683906381,327.68609814076353,3.0517010201953449E-3,{"$f":"Egen_LinInt1(O76,Materialegenskaper!$B$3:$B$7,Materialegenskaper!$G$3:$G$7)","v":2.83487712624165E-2},{"$f":"Egen_LinInt1(O76,Materialegenskaper!$B$3:$B$7,Materialegenskaper!$E$3:$E$7)","v":1.867522147296081E-5},{"$f":"Egen_LinInt1(O76,Materialegenskaper!$B$3:$B$7,Materialegenskaper!$D$3:$D$7)","v":2.6597542524833004E-5},{"$f":"Egen_LinInt1(O76,Materialegenskaper!$B$3:$B$7,Materialegenskaper!$F$3:$F$7)","v":0.70312394626029306}]
[81.574821051143246,550,0,-79.776570670850248,0,11.780999999999999,15.851038054051603,75.70653261679864,32.269063597773844,15.074535898562377,4.1419219272898369,15.053010752607918,7981.1602678914778,711.60550686715942,326.43741052557158,3.0633743797623485E-3,{"$f":"Egen_LinInt1(O77,Materialegenskaper!$B$3:$B$7,Materialegenskaper!$G$3:$G$7)","v":2.8256368378892296E-2},{"$f":"Egen_LinInt1(O77,Materialegenskaper!$B$3:$B$7,Materialegenskaper!$E$3:$E$7)","v":1.85496034988725E-5},{"$f":"Egen_LinInt1(O77,Materialegenskaper!$B$3:$B$7,Materialegenskaper!$D$3:$D$7)","v":2.6412736757784593E-5},{"$f":"Egen_LinInt1(O77,Materialegenskaper!$B$3:$B$7,Materialegenskaper!$F$3:$F$7)","v":0.70329876252641998}]
[79.202766157005726,560,0,-75.789590508424126,0,11.780999999999999,15.013071606686649,72.557518901737481,32.280270777518467,15.126755988885026,4.1167391914425746,15.10596805311622,7775.7696681024163,716.21231231802381,325.25138307850284,3.0745449582258639E-3,{"$f":"Egen_LinInt1(O78,Materialegenskaper!$B$3:$B$7,Materialegenskaper!$G$3:$G$7)","v":2.8168602347809209E-2},{"$f":"Egen_LinInt1(O78,Materialegenskaper!$B$3:$B$7,Materialegenskaper!$E$3:$E$7)","v":1.8430289137697385E-5},{"$f":"Egen_LinInt1(O78,Materialegenskaper!$B$3:$B$7,Materialegenskaper!$D$3:$D$7)","v":2.623720469561842E-5},{"$f":"Egen_LinInt1(O78,Materialegenskaper!$B$3:$B$7,Materialegenskaper!$F$3:$F$7)","v":0.70346480636900954}]
[76.949259048610102,570,0,-72.016239635413712,0,11.780999999999999,14.232506377274634,69.564733258139071,32.291332214925227,15.176863346909094,4.0913740404741983,15.156784784611487,7572.8056148795376,720.64447641136599,324.12462952430502,3.0852329903704938E-3,{"$f":"Egen_LinInt1(O79,Materialegenskaper!$B$3:$B$7,Materialegenskaper!$G$3:$G$7)","v":2.8085222584798571E-2},{"$f":"Egen_LinInt1(O79,Materialegenskaper!$B$3:$B$7,Materialegenskaper!$E$3:$E$7)","v":1.8316937730145086E-5},{"$f":"Egen_LinInt1(O79,Materialegenskaper!$B$3:$B$7,Materialegenskaper!$D$3:$D$7)","v":2.6070445169597141E-5},{"$f":"Egen_LinInt1(O79,Materialegenskaper!$B$3:$B$7,Materialegenskaper!$F$3:$F$7)","v":0.70362255186659728}]
[74.807947730662178,580,0,-68.443459325671327,0,11.780999999999999,13.504638191538266,66.719821134133056,32.302223809881411,15.224931965816459,4.0658680451092666,15.205535747844021,7372.6233743203093,724.90710294234259,323.05397386533105,3.0954579757525658E-3,{"$f":"Egen_LinInt1(O80,Materialegenskaper!$B$3:$B$7,Materialegenskaper!$G$3:$G$7)","v":2.8005994066034497E-2},{"$f":"Egen_LinInt1(O80,Materialegenskaper!$B$3:$B$7,Materialegenskaper!$E$3:$E$7)","v":1.8209229770852303E-5},{"$f":"Egen_LinInt1(O80,Materialegenskaper!$B$3:$B$7,Materialegenskaper!$D$3:$D$7)","v":2.5911988132068993E-5},{"$f":"Egen_LinInt1(O80,Materialegenskaper!$B$3:$B$7,Materialegenskaper!$F$3:$F$7)","v":0.70377244365885361}]
[72.772868492485756,590,0,-65.059170406829026,0,11.780999999999999,12.825222623096911,64.014947783732111,32.312925005631669,15.271033991585094,4.0402609330156558,15.252293894232189,7175.5386760089468,729.00525806693167,322.03643424624283,3.1052387048707574E-3,{"$f":"Egen_LinInt1(O81,Materialegenskaper!$B$3:$B$7,Materialegenskaper!$G$3:$G$7)","v":2.7930696134221968E-2},{"$f":"Egen_LinInt1(O81,Materialegenskaper!$B$3:$B$7,Materialegenskaper!$E$3:$E$7)","v":1.8106865285172028E-5},{"$f":"Egen_LinInt1(O81,Materialegenskaper!$B$3:$B$7,Materialegenskaper!$D$3:$D$7)","v":2.576139226844394E-5},{"$f":"Egen_LinInt1(O81,Materialegenskaper!$B$3:$B$7,Materialegenskaper!$F$3:$F$7)","v":0.70391489920552597}]
[70.838416782236507,600,0,-61.852180104841501,0,11.780999999999999,12.190422726790151,61.442757378051347,32.323418441550878,15.315239737163008,4.0145906280591408,15.297130337867294,6981.8297614844914,732.94396238514992,321.06920839111825,3.1145932835198128E-3,{"$f":"Egen_LinInt1(O82,Materialegenskaper!$B$3:$B$7,Materialegenskaper!$G$3:$G$7)","v":2.785912142094275E-2},{"$f":"Egen_LinInt1(O82,Materialegenskaper!$B$3:$B$7,Materialegenskaper!$E$3:$E$7)","v":1.8009562364146495E-5},{"$f":"Egen_LinInt1(O82,Materialegenskaper!$B$3:$B$7,Materialegenskaper!$D$3:$D$7)","v":2.5618242841885501E-5},{"$f":"Egen_LinInt1(O82,Materialegenskaper!$B$3:$B$7,Materialegenskaper!$F$3:$F$7)","v":0.70405031082524339}]
[68.999320850974897,610,0,-58.812099758153238,0,11.780999999999999,11.596763509465685,58.996336248687548,32.333689635982203,15.357617694480437,3.9888932896619922,15.340114365552374,6791.7394662229735,736.7281834000861,320.14966042548741,3.123539155627944E-3,{"$f":"Egen_LinInt1(O83,Materialegenskaper!$B$3:$B$7,Materialegenskaper!$G$3:$G$7)","v":2.779107487148607E-2},{"$f":"Egen_LinInt1(O83,Materialegenskaper!$B$3:$B$7,Materialegenskaper!$E$3:$E$7)","v":1.7917055838804031E-5},{"$f":"Egen_LinInt1(O83,Materialegenskaper!$B$3:$B$7,Materialegenskaper!$D$3:$D$7)","v":2.5482149742972136E-5},{"$f":"Egen_LinInt1(O83,Materialegenskaper!$B$3:$B$7,Materialegenskaper!$F$3:$F$7)","v":0.7041790475404317}]
[67.250617843403703,620,0,-55.929271929156997,0,11.780999999999999,11.041092171009776,56.669179758147223,32.343726696461367,15.398234545350446,3.9632033522970671,15.381313445919195,6605.4773153390079,740.36282841287641,319.27530892170182,3.1320931248248738E-3,{"$f":"Egen_LinInt1(O84,Materialegenskaper!$B$3:$B$7,Materialegenskaper!$G$3:$G$7)","v":2.7726372860205933E-2},{"$f":"Egen_LinInt1(O84,Materialegenskaper!$B$3:$B$7,Materialegenskaper!$E$3:$E$7)","v":1.7829096077523204E-5},{"$f":"Egen_LinInt1(O84,Materialegenskaper!$B$3:$B$7,Materialegenskaper!$D$3:$D$7)","v":2.5352745720411871E-5},{"$f":"Egen_LinInt1(O84,Materialegenskaper!$B$3:$B$7,Materialegenskaper!$F$3:$F$7)","v":0.70430145675096167}]
[65.587632055853661,630,0,-53.194705663469449,0,11.780999999999999,10.520543301164496,54.455162362304954,32.353520054947808,15.437155172096819,3.937553565105631,15.420793238455589,6423.2216152053716,743.85273789827886,318.4438160279268,3.1402713749426438E-3,{"$f":"Egen_LinInt1(O85,Materialegenskaper!$B$3:$B$7,Materialegenskaper!$G$3:$G$7)","v":2.7664842386066583E-2},{"$f":"Egen_LinInt1(O85,Materialegenskaper!$B$3:$B$7,Materialegenskaper!$E$3:$E$7)","v":1.7745447892409434E-5},{"$f":"Egen_LinInt1(O85,Materialegenskaper!$B$3:$B$7,Materialegenskaper!$D$3:$D$7)","v":2.5229684772133167E-5},{"$f":"Egen_LinInt1(O85,Materialegenskaper!$B$3:$B$7,Materialegenskaper!$F$3:$F$7)","v":0.70441786575609022}]
[64.005955119252235,640,0,-50.600018833395019,{"$f":"$E$3*(1+$E$5*(A86-$E$4))*C86^2","v":0},{"$f":"$E$13*$E$7*$E$9","v":11.780999999999999},{"$f":"PI()*$E$7*$E$9*$E$14*((A86+273.15)^4-($E$15+273.15)^4)","v":10.032508344144759},{"$f":"I86*PI()*$E$7*(A86-$E$15)","v":52.348510489250259},32.363062225934812,15.474442668567301,3.9119750315956319,15.458617603093622,6245.1215251901704,747.20267939211851,317.65297755962609,3.1480894896138405E-3,{"$f":"Egen_LinInt1(O86,Materialegenskaper!$B$3:$B$7,Materialegenskaper!$G$3:$G$7)","v":2.7606320339412332E-2},{"$f":"Egen_LinInt1(O86,Materialegenskaper!$B$3:$B$7,Materialegenskaper!$E$3:$E$7)","v":1.7665889542498385E-5},{"$f":"Egen_LinInt1(O86,Materialegenskaper!$B$3:$B$7,Materialegenskaper!$D$3:$D$7)","v":2.5112640678824662E-5},{"$f":"Egen_LinInt1(O86,Materialegenskaper!$B$3:$B$7,Materialegenskaper!$F$3:$F$7)","v":0.70452858314165234}]
[{"$f":"A86+((B87-B86)/($E$8*$E$6))*D86","v":62.501427896436148},650,0,{"$f":"E87+F87-G87-H87","v":-48.137386657477116},0,11.780999999999999,9.5746087481330022,50.343777909344112,32.372347585528679,15.510158352038966,3.8864972493555401,15.494848610856863,6071.2990956831245,750.41734191041826,316.90071394821803,3.1555624711006531E-3,{"$f":"Egen_LinInt1(O87,Materialegenskaper!$B$3:$B$7,Materialegenskaper!$G$3:$G$7)","v":2.7550652832168135E-2},{"$f":"Egen_LinInt1(O87,Materialegenskaper!$B$3:$B$7,Materialegenskaper!$E$3:$E$7)","v":1.7590211823190731E-5},{"$f":"Egen_LinInt1(O87,Materialegenskaper!$B$3:$B$7,Materialegenskaper!$D$3:$D$7)","v":2.500130566433627E-5},{"$f":"Egen_LinInt1(O87,Materialegenskaper!$B$3:$B$7,Materialegenskaper!$F$3:$F$7)","v":0.70463390004724946}]
[61.070123910169649,660,{"$f":"C87","v":0},-45.799495618606826,0,11.780999999999999,9.1446723043085445,48.435823314298283,32.381372169768945,15.544361776392249,3.861148149705294,15.529546555934839,5901.8512604927555,753.50133091022656,316.18506195508479,3.1627047584621613E-3,{"$f":"Egen_LinInt1(O88,Materialegenskaper!$B$3:$B$7,Materialegenskaper!$G$3:$G$7)","v":2.7497694584676276E-2},{"$f":"Egen_LinInt1(O88,Materialegenskaper!$B$3:$B$7,Materialegenskaper!$E$3:$E$7)","v":1.751821723268153E-5},{"$f":"Egen_LinInt1(O88,Materialegenskaper!$B$3:$B$7,Materialegenskaper!$D$3:$D$7)","v":2.4895389169352551E-5},{"$f":"Egen_LinInt1(O88,Materialegenskaper!$B$3:$B$7,Materialegenskaper!$F$3:$F$7)","v":0.70473409132628806}]
[59.708334141349184,670,0,-43.579502113143533,0,11.780999999999999,8.7407122533068478,46.619789859836686,32.390133490625061,15.57711074682363,3.8359541371991348,15.562769969445354,5736.8517735215737,756.45916379390167,315.50416707067455,3.169530245145684E-3,{"$f":"Egen_LinInt1(O89,Materialegenskaper!$B$3:$B$7,Materialegenskaper!$G$3:$G$7)","v":2.7447308363229918E-2},{"$f":"Egen_LinInt1(O89,Materialegenskaper!$B$3:$B$7,Materialegenskaper!$E$3:$E$7)","v":1.7449719207309859E-5},{"$f":"Egen_LinInt1(O89,Materialegenskaper!$B$3:$B$7,Materialegenskaper!$D$3:$D$7)","v":2.4794616726459835E-5},{"$f":"Egen_LinInt1(O89,Materialegenskaper!$B$3:$B$7,Materialegenskaper!$F$3:$F$7)","v":0.70482941661010556}]
[58.412553056723915,680,0,-41.470995256408436,0,11.780999999999999,8.3609087984420452,44.891086457966388,32.398630368242522,15.608461336275608,3.8109401288936926,15.594575635054271,5576.3530813474054,759.29526595166772,314.85627652836195,3.1760522960701436E-3,{"$f":"Egen_LinInt1(O90,Materialegenskaper!$B$3:$B$7,Materialegenskaper!$G$3:$G$7)","v":2.7399364463098784E-2},{"$f":"Egen_LinInt1(O90,Materialegenskaper!$B$3:$B$7,Materialegenskaper!$E$3:$E$7)","v":1.7384541418753209E-5},{"$f":"Egen_LinInt1(O90,Materialegenskaper!$B$3:$B$7,Materialegenskaper!$D$3:$D$7)","v":2.4698728926197569E-5},{"$f":"Egen_LinInt1(O90,Materialegenskaper!$B$3:$B$7,Materialegenskaper!$F$3:$F$7)","v":0.70492012128602932}]
[57.179465742547578,690,0,-39.467963348632026,0,11.780999999999999,8.0035927167191456,43.245370631912877,32.40686277813473,15.63846790368839,3.7861295932976557,15.625018606547727,5420.388124943348,762.01396733156173,314.23973287127376,3.1822837642547369E-3,{"$f":"Egen_LinInt1(O91,Materialegenskaper!$B$3:$B$7,Materialegenskaper!$G$3:$G$7)","v":2.7353740232474257E-2},{"$f":"Egen_LinInt1(O91,Materialegenskaper!$B$3:$B$7,Materialegenskaper!$E$3:$E$7)","v":1.7322517126850138E-5},{"$f":"Egen_LinInt1(O91,Materialegenskaper!$B$3:$B$7,Materialegenskaper!$D$3:$D$7)","v":2.4607480464948517E-5},{"$f":"Egen_LinInt1(O91,Materialegenskaper!$B$3:$B$7,Materialegenskaper!$F$3:$F$7)","v":0.7050064373980216}]
[56.005936035322755,700,0,-37.564763572317446,0,11.780999999999999,7.6672308022824325,41.678532770035012,32.414831712125398,15.667183114115929,3.7615445889256942,15.654152227390293,5268.9720652471879,764.61949952121336,313.65296801766135,3.1882370070341289E-3,{"$f":"Egen_LinInt1(O92,Materialegenskaper!$B$3:$B$7,Materialegenskaper!$G$3:$G$7)","v":2.7310319633306941E-2},{"$f":"Egen_LinInt1(O92,Materialegenskaper!$B$3:$B$7,Materialegenskaper!$E$3:$E$7)","v":1.7263488582576731E-5},{"$f":"Egen_LinInt1(O92,Materialegenskaper!$B$3:$B$7,Materialegenskaper!$D$3:$D$7)","v":2.452063926661388E-5},{"$f":"Egen_LinInt1(O92,Materialegenskaper!$B$3:$B$7,Materialegenskaper!$F$3:$F$7)","v":0.70508858447752742}]
[54.888995553555553,710,0,-35.756094548953754,0,11.780999999999999,7.3504129138559389,40.186681635097813,32.422539051942856,15.694657960699409,3.7372058023882682,15.682028152252993,5122.1039286394034,767.11599332219816,313.09449777677776,3.19392390189161E-3,{"$f":"Egen_LinInt1(O93,Materialegenskaper!$B$3:$B$7,Materialegenskaper!$G$3:$G$7)","v":2.7268992835481554E-2},{"$f":"Egen_LinInt1(O93,Materialegenskaper!$B$3:$B$7,Materialegenskaper!$E$3:$E$7)","v":1.7207306476343842E-5},{"$f":"Egen_LinInt1(O93,Materialegenskaper!$B$3:$B$7,Materialegenskaper!$D$3:$D$7)","v":2.443798567096311E-5},{"$f":"Egen_LinInt1(O93,Materialegenskaper!$B$3:$B$7,Materialegenskaper!$F$3:$F$7)","v":0.70516677031125108}]
[53.825833545501467,720,0,-34.036971431673678,0,11.780999999999999,7.0518404290490944,38.766131002624583,32.429987454454263,15.72094178845081,3.7131325859596744,15.708696370454865,4979.7681696051268,769.50747679481117,312.56291677275073,3.1993558619337155E-3,{"$f":"Egen_LinInt1(O94,Materialegenskaper!$B$3:$B$7,Materialegenskaper!$G$3:$G$7)","v":2.7229655841183555E-2},{"$f":"Egen_LinInt1(O94,Materialegenskaper!$B$3:$B$7,Materialegenskaper!$E$3:$E$7)","v":1.7153829427338721E-5},{"$f":"Egen_LinInt1(O94,Materialegenskaper!$B$3:$B$7,Materialegenskaper!$D$3:$D$7)","v":2.4359311682367109E-5},{"$f":"Egen_LinInt1(O94,Materialegenskaper!$B$3:$B$7,Materialegenskaper!$F$3:$F$7)","v":0.70524119165181487}]
[52.813787477499432,730,0,-32.402703252109539,0,11.780999999999999,6.7703159350392639,37.413387317070274,32.437180247606392,15.746082319768309,3.6893429945787468,15.73420523123119,4841.936148941375,771.79787374894011,312.05689373874969,3.2045438510234872E-3,{"$f":"Egen_LinInt1(O95,Materialegenskaper!$B$3:$B$7,Materialegenskaper!$G$3:$G$7)","v":2.7192210136667477E-2},{"$f":"Egen_LinInt1(O95,Materialegenskaper!$B$3:$B$7,Materialegenskaper!$E$3:$E$7)","v":1.7102923510118218E-5},{"$f":"Egen_LinInt1(O95,Materialegenskaper!$B$3:$B$7,Materialegenskaper!$D$3:$D$7)","v":2.4284420273334956E-5},{"$f":"Egen_LinInt1(O95,Materialegenskaper!$B$3:$B$7,Materialegenskaper!$F$3:$F$7)","v":0.70531203487657501}]
[51.850334295868286,740,0,-30.848872275453139,0,11.780999999999999,6.504734007861229,36.125138267591907,32.444121336209783,15.770125681580261,3.6658538222492707,15.75860147071684,4708.5675268296873,773.99100265518405,311.57516714793411,3.2094983985845242E-3,{"$f":"Egen_LinInt1(O96,Materialegenskaper!$B$3:$B$7,Materialegenskaper!$G$3:$G$7)","v":2.7156562368947125E-2},{"$f":"Egen_LinInt1(O96,Materialegenskaper!$B$3:$B$7,Materialegenskaper!$E$3:$E$7)","v":1.7054461815082171E-5},{"$f":"Egen_LinInt1(O96,Materialegenskaper!$B$3:$B$7,Materialegenskaper!$D$3:$D$7)","v":2.4213124737894249E-5},{"$f":"Egen_LinInt1(O96,Materialegenskaper!$B$3:$B$7,Materialegenskaper!$F$3:$F$7)","v":0.70537947659928923}]
[50.93308230265432,750,0,-29.37131514847983,0,11.780999999999999,6.2540729519536304,34.898242196526198,32.450815116769803,15.793116433997712,3.6426806378201455,15.781930240516473,4579.6115709311762,776.09057594936144,311.11654115132717,3.2142296140840669E-3,{"$f":"Egen_LinInt1(O97,Materialegenskaper!$B$3:$B$7,Materialegenskaper!$G$3:$G$7)","v":2.7122624045198211E-2},{"$f":"Egen_LinInt1(O97,Materialegenskaper!$B$3:$B$7,Materialegenskaper!$E$3:$E$7)","v":1.7008324039823512E-5},{"$f":"Egen_LinInt1(O97,Materialegenskaper!$B$3:$B$7,Materialegenskaper!$D$3:$D$7)","v":2.4145248090396422E-5},{"$f":"Egen_LinInt1(O97,Materialegenskaper!$B$3:$B$7,Materialegenskaper!$F$3:$F$7)","v":0.70544368423881421}]
[50.059763591918305,760,0,-27.966105651804867,0,11.780999999999999,6.0173873882531037,33.72971826355176,32.457266400625265,15.815097600341312,3.6198378201380224,15.804235137720102,4455.008380382521,778.1001997030213,310.67988179595915,3.2187472012003529E-3,{"$f":"Egen_LinInt1(O98,Materialegenskaper!$B$3:$B$7,Materialegenskaper!$G$3:$G$7)","v":2.7090311252900977E-2},{"$f":"Egen_LinInt1(O98,Materialegenskaper!$B$3:$B$7,Materialegenskaper!$E$3:$E$7)","v":1.6964396108673489E-5},{"$f":"Egen_LinInt1(O98,Materialegenskaper!$B$3:$B$7,Materialegenskaper!$D$3:$D$7)","v":2.4080622505801955E-5},{"$f":"Egen_LinInt1(O98,Materialegenskaper!$B$3:$B$7,Materialegenskaper!$F$3:$F$7)","v":0.70550481654856567}]
[49.228226998862297,770,0,-26.62953889054544,0,11.780999999999999,5.7938015934181077,32.616737297127329,32.463480344712046,15.836110698401182,3.5973385925773487,15.825558236215059,4334.690027184708,780.02337363242657,310.26411349943112,3.2230604716772492E-3,{"$f":"Egen_LinInt1(O99,Materialegenskaper!$B$3:$B$7,Materialegenskaper!$G$3:$G$7)","v":2.7059544398957903E-2},{"$f":"Egen_LinInt1(O99,Materialegenskaper!$B$3:$B$7,Materialegenskaper!$E$3:$E$7)","v":1.6922569818042768E-5},{"$f":"Egen_LinInt1(O99,Materialegenskaper!$B$3:$B$7,Materialegenskaper!$D$3:$D$7)","v":2.4019088797915806E-5},{"$f":"Egen_LinInt1(O99,Materialegenskaper!$B$3:$B$7,Materialegenskaper!$F$3:$F$7)","v":0.70556302411007965}]
[48.436431519026954,780,0,-25.358116777386808,0,11.780999999999999,5.5825035050637704,31.556613272323037,32.469462389319055,15.856195772783423,3.5751950569641724,15.84594011914143,4218.5816169895015,781.86349141867333,309.86821575951348,3.2271783588675418E-3,{"$f":"Egen_LinInt1(O100,Materialegenskaper!$B$3:$B$7,Materialegenskaper!$G$3:$G$7)","v":2.7030247966203999E-2},{"$f":"Egen_LinInt1(O100,Materialegenskaper!$B$3:$B$7,Materialegenskaper!$E$3:$E$7)","v":1.6882742505407055E-5},{"$f":"Egen_LinInt1(O100,Materialegenskaper!$B$3:$B$7,Materialegenskaper!$D$3:$D$7)","v":2.3960495932407995E-5},{"$f":"Egen_LinInt1(O100,Materialegenskaper!$B$3:$B$7,Materialegenskaper!$F$3:$F$7)","v":0.70561844979366806}]
[47.682440159131488,790,0,-24.148534679249465,0,11.780999999999999,5.3827393184989552,30.546795360750508,{"$f":"Q101*J101/$E$7","v":32.475218202250105},{"$f":"(K101^4+L101^4)^(1/4)","v":15.87539142819494},{"$f":"(0.6+(0.387*(M101^(1/6)))/((1+(0.559/T101)^(9/16))^(8/27)))^2","v":3.5534182269203192},{"$f":"0.65*N101^(0.2)+0.23*N101^(0.61)","v":15.865419912336023},{"$f":"$C$11*P101*(A101-$E$15)*$E$7^3/(R101*S101)","v":4106.6022717098704},{"$f":"$E$12*$E$7/R101","v":783.62384131206784},{"$f":"(A101+$E$15)/2+273.15","v":309.49122007956572},{"$f":"1/O101","v":3.2311094309651644E-3},{"$f":"Egen_LinInt1(O101,Materialegenskaper!$B$3:$B$7,Materialegenskaper!$G$3:$G$7)","v":2.7002350285887863E-2},{"$f":"Egen_LinInt1(O101,Materialegenskaper!$B$3:$B$7,Materialegenskaper!$E$3:$E$7)","v":1.6844816740004309E-5},{"$f":"Egen_LinInt1(O101,Materialegenskaper!$B$3:$B$7,Materialegenskaper!$D$3:$D$7)","v":2.3904700571775729E-5},{"$f":"Egen_LinInt1(O101,Materialegenskaper!$B$3:$B$7,Materialegenskaper!$F$3:$F$7)","v":0.70567122918886072}]
[46.964414184957924,800,0,-22.997669113702244,0,11.780999999999999,5.1938086096254761,29.584860504076769,32.480753628849996,15.893734863519786,3.5320180606636908,15.884035318612204,3998.6660367181357,785.30760699456459,309.13220709247895,3.2348619039259258E-3,{"$f":"Egen_LinInt1(O102,Materialegenskaper!$B$3:$B$7,Materialegenskaper!$G$3:$G$7)","v":2.6975783324843444E-2},{"$f":"Egen_LinInt1(O102,Materialegenskaper!$B$3:$B$7,Materialegenskaper!$E$3:$E$7)","v":1.6808700033503382E-5},{"$f":"Egen_LinInt1(O102,Materialegenskaper!$B$3:$B$7,Materialegenskaper!$D$3:$D$7)","v":2.3851566649686885E-5},{"$f":"Egen_LinInt1(O102,Materialegenskaper!$B$3:$B$7,Materialegenskaper!$F$3:$F$7)","v":0.70572149100705295}]
[46.280607735066923,810,0,-21.902566394282427,0,11.780999999999999,5.0150599266005713,28.668506467681855,32.486074647392556,15.911261906542759,3.5110034933079177,15.901822652725659,3894.682715658264,786.91786867494511,308.79030386753345,3.2384436540759563E-3,{"$f":"Egen_LinInt1(O103,Materialegenskaper!$B$3:$B$7,Materialegenskaper!$G$3:$G$7)","v":2.6950482486197476E-2},{"$f":"Egen_LinInt1(O103,Materialegenskaper!$B$3:$B$7,Materialegenskaper!$E$3:$E$7)","v":1.6774304569073865E-5},{"$f":"Egen_LinInt1(O103,Materialegenskaper!$B$3:$B$7,Materialegenskaper!$D$3:$D$7)","v":2.3800964972394951E-5},{"$f":"Egen_LinInt1(O103,Materialegenskaper!$B$3:$B$7,Materialegenskaper!$F$3:$F$7)","v":0.7057693574585453}]
[45.629362772130541,820,0,-20.860432135239229,0,11.780999999999999,4.8458867997540356,27.79554533548519,32.491187329366312,15.928007049180534,3.4903824687108682,15.918816876881159,3794.5586360937878,788.45760439240053,308.46468138606525,3.2418622304069542E-3,{"$f":"Egen_LinInt1(O104,Materialegenskaper!$B$3:$B$7,Materialegenskaper!$G$3:$G$7)","v":2.6926386422568827E-2},{"$f":"Egen_LinInt1(O104,Materialegenskaper!$B$3:$B$7,Materialegenskaper!$E$3:$E$7)","v":1.6741546947438164E-5},{"$f":"Egen_LinInt1(O104,Materialegenskaper!$B$3:$B$7,Materialegenskaper!$D$3:$D$7)","v":2.3752772845137658E-5},{"$f":"Egen_LinInt1(O104,Materialegenskaper!$B$3:$B$7,Materialegenskaper!$F$3:$F$7)","v":0.70581494460595084}]
[45.009104346328108,830,0,-19.868621536143031,0,11.780999999999999,4.6857241252413164,26.963897410901716,32.49609780422881,15.944003483086572,3.4701619709258145,15.935051636641859,3698.1973493489663,789.9296915053086,308.15455217316401,3.245124866557419E-3,{"$f":"Egen_LinInt1(O105,Materialegenskaper!$B$3:$B$7,Materialegenskaper!$G$3:$G$7)","v":2.6903436860814138E-2},{"$f":"Egen_LinInt1(O105,Materialegenskaper!$B$3:$B$7,Materialegenskaper!$E$3:$E$7)","v":1.6710347948620299E-5},{"$f":"Egen_LinInt1(O105,Materialegenskaper!$B$3:$B$7,Materialegenskaper!$D$3:$D$7)","v":2.3706873721628274E-5},{"$f":"Egen_LinInt1(O105,Materialegenskaper!$B$3:$B$7,Materialegenskaper!$F$3:$F$7)","v":0.70585836269575697}]
[44.418336147616913,{"$f":"B105+10","v":840},0,-18.924630375492043,0,11.780999999999999,4.5340448831305071,26.171585492361533,32.500812228232917,15.959283135502588,3.4503480553119976,15.950559297109333,3605.5002679846607,791.3369083431661,307.85916807380841,3.2482384924793035E-3,{"$f":"Egen_LinInt1(O106,Materialegenskaper!$B$3:$B$7,Materialegenskaper!$G$3:$G$7)","v":2.6881578437461823E-2},{"$f":"Egen_LinInt1(O106,Materialegenskaper!$B$3:$B$7,Materialegenskaper!$E$3:$E$7)","v":1.6680632308225123E-5},{"$f":"Egen_LinInt1(O106,Materialegenskaper!$B$3:$B$7,Materialegenskaper!$D$3:$D$7)","v":2.3663156874923645E-5},{"$f":"Egen_LinInt1(O106,Materialegenskaper!$B$3:$B$7,Materialegenskaper!$F$3:$F$7)","v":0.70589971646966676}]
[43.855636325796517,850,0,-18.026086650071438,0,11.780999999999999,4.3903571551730636,25.416729494898373,32.505336756959004,15.973876705236684,3.4309458793624161,15.965370979250601,3516.3672443893179,792.68193600087523,307.57781816289821,3.2512097457898727E-3,{"$f":"Egen_LinInt1(O107,Materialegenskaper!$B$3:$B$7,Materialegenskaper!$G$3:$G$7)","v":2.6860758544054467E-2},{"$f":"Egen_LinInt1(O107,Materialegenskaper!$B$3:$B$7,Materialegenskaper!$E$3:$E$7)","v":1.665232850718756E-5},{"$f":"Egen_LinInt1(O107,Materialegenskaper!$B$3:$B$7,Materialegenskaper!$D$3:$D$7)","v":2.3621517088108937E-5},{"$f":"Egen_LinInt1(O107,Materialegenskaper!$B$3:$B$7,Materialegenskaper!$F$3:$F$7)","v":0.70593910545719418}]
[43.319653559166106,860,0,-17.170742803517317,0,11.780999999999999,4.2542014114852611,24.697541392032054,32.509677521215472,15.987813698656236,3.4119597333061851,15.979516596256346,3430.6970939656485,793.96736025584835,307.30982677958303,3.2540449828089837E-3,{"$f":"Egen_LinInt1(O108,Materialegenskaper!$B$3:$B$7,Materialegenskaper!$G$3:$G$7)","v":2.6840927181689143E-2},{"$f":"Egen_LinInt1(O108,Materialegenskaper!$B$3:$B$7,Materialegenskaper!$E$3:$E$7)","v":1.662536857402605E-5},{"$f":"Egen_LinInt1(O108,Materialegenskaper!$B$3:$B$7,Materialegenskaper!$D$3:$D$7)","v":2.3581854363378289E-5},{"$f":"Egen_LinInt1(O108,Materialegenskaper!$B$3:$B$7,Materialegenskaper!$F$3:$F$7)","v":0.70597662425085839}]
[42.809103354255598,870,0,-16.356468493432697,0,11.780999999999999,4.1251480388501731,24.012320454582522,32.513840605995995,16.001122465591457,3.3933930705407542,15.993024889823023,3348.3880663611171,795.19567358965844,307.05455167712779,3.2567502892825186E-3,{"$f":"Egen_LinInt1(O109,Materialegenskaper!$B$3:$B$7,Materialegenskaper!$G$3:$G$7)","v":2.6822036824107456E-2},{"$f":"Egen_LinInt1(O109,Materialegenskaper!$B$3:$B$7,Materialegenskaper!$E$3:$E$7)","v":1.6599687898719054E-5},{"$f":"Egen_LinInt1(O109,Materialegenskaper!$B$3:$B$7,Materialegenskaper!$D$3:$D$7)","v":2.3544073648214914E-5},{"$f":"Egen_LinInt1(O109,Materialegenskaper!$B$3:$B$7,Materialegenskaper!$F$3:$F$7)","v":0.70601236276520207}]
[42.322764560617408,880,0,-15.581243851601432,0,11.780999999999999,4.0027950864030615,23.359448765198369,32.517832032207586,16.013830235054151,3.3752485379457764,16.005923466260285,3269.3382681304333,796.36927729724073,306.81138228030869,3.2593314907931972E-3,{"$f":"Egen_LinInt1(O110,Materialegenskaper!$B$3:$B$7,Materialegenskaper!$G$3:$G$7)","v":2.6804042288742842E-2},{"$f":"Egen_LinInt1(O110,Materialegenskaper!$B$3:$B$7,Materialegenskaper!$E$3:$E$7)","v":1.6575225057399054E-5},{"$f":"Egen_LinInt1(O110,Materialegenskaper!$B$3:$B$7,Materialegenskaper!$D$3:$D$7)","v":2.3508084577485687E-5},{"$f":"Egen_LinInt1(O110,Materialegenskaper!$B$3:$B$7,Materialegenskaper!$F$3:$F$7)","v":0.70604640648075678}]
[41.859476086017104,890,0,-14.843153196434573,0,11.780999999999999,3.8867662071448357,22.737386989289735,32.521657740905283,16.025963150683936,3.3575280061254191,16.018238832333203,3193.4460401357637,797.49048366788656,306.57973804300855,3.2617941628605442E-3,{"$f":"Egen_LinInt1(O111,Materialegenskaper!$B$3:$B$7,Materialegenskaper!$G$3:$G$7)","v":2.6786900615182633E-2},{"$f":"Egen_LinInt1(O111,Materialegenskaper!$B$3:$B$7,Materialegenskaper!$E$3:$E$7)","v":1.6551921647126657E-5},{"$f":"Egen_LinInt1(O111,Materialegenskaper!$B$3:$B$7,Materialegenskaper!$D$3:$D$7)","v":2.3473801230365265E-5},{"$f":"Egen_LinInt1(O111,Materialegenskaper!$B$3:$B$7,Materialegenskaper!$F$3:$F$7)","v":0.70607883667397875}]
[41.418133798576555,900,0,-14.14037916084569,0,11.780999999999999,3.7767087760869447,22.144670384758744,32.525323579791191,16.037546305842458,3.3402325996198607,16.029996430757464,3120.6102928899063,798.56151822349989,306.35906689928822,3.2641436407323233E-3,{"$f":"Egen_LinInt1(O112,Materialegenskaper!$B$3:$B$7,Materialegenskaper!$G$3:$G$7)","v":2.6770570950547329E-2},{"$f":"Egen_LinInt1(O112,Materialegenskaper!$B$3:$B$7,Materialegenskaper!$E$3:$E$7)","v":1.6529722130068393E-5},{"$f":"Egen_LinInt1(O112,Materialegenskaper!$B$3:$B$7,Materialegenskaper!$D$3:$D$7)","v":2.344114190109466E-5},{"$f":"Egen_LinInt1(O112,Materialegenskaper!$B$3:$B$7,Materialegenskaper!$F$3:$F$7)","v":0.70610973063409965}]
[40.997687603517178,910,0,-13.471197202349565,0,11.780999999999999,3.6722921679087159,21.579905034440849,32.528835291756103,16.048603778284253,3.323362727119501,16.041220675273873,3050.7308029326941,799.58452200076147,306.14884380175857,3.2663850288702475E-3,{"$f":"Egen_LinInt1(O113,Materialegenskaper!$B$3:$B$7,Materialegenskaper!$G$3:$G$7)","v":2.6755014441330136E-2},{"$f":"Egen_LinInt1(O113,Materialegenskaper!$B$3:$B$7,Materialegenskaper!$E$3:$E$7)","v":1.6508573686456913E-5},{"$f":"Egen_LinInt1(O113,Materialegenskaper!$B$3:$B$7,Materialegenskaper!$D$3:$D$7)","v":2.3410028882660269E-5},{"$f":"Egen_LinInt1(O113,Materialegenskaper!$B$3:$B$7,Materialegenskaper!$F$3:$F$7)","v":0.70613916186775372}]
[40.597138683138468,920,0,-12.833970465371809,0,11.780999999999999,3.5732061788414882,21.04176428653032,32.532198505258734,16.05915866433995,3.3069181117073145,16.051934985236009,2983.7084732052494,800.56155386499381,305.94856934156923,3.268523210133312E-3,{"$f":"Egen_LinInt1(O114,Materialegenskaper!$B$3:$B$7,Materialegenskaper!$G$3:$G$7)","v":2.6740194131276124E-2},{"$f":"Egen_LinInt1(O114,Materialegenskaper!$B$3:$B$7,Materialegenskaper!$E$3:$E$7)","v":1.6488426075761863E-5},{"$f":"Egen_LinInt1(O114,Materialegenskaper!$B$3:$B$7,Materialegenskaper!$D$3:$D$7)","v":2.3380388262552246E-5},{"$f":"Egen_LinInt1(O114,Materialegenskaper!$B$3:$B$7,Materialegenskaper!$F$3:$F$7)","v":0.70616720029218027}]
[40.215536889559175,930,0,-12.227144968596916,0,11.780999999999999,3.4791595791129968,20.528985389483918,32.535418726356447,16.069233112555381,3.2908978211461286,16.062161819652825,2919.4455602530156,801.49459284459351,305.75776844477957,3.2705628546625199E-3,{"$f":"Egen_LinInt1(O115,Materialegenskaper!$B$3:$B$7,Materialegenskaper!$G$3:$G$7)","v":2.6726074864913688E-2},{"$f":"Egen_LinInt1(O115,Materialegenskaper!$B$3:$B$7,Materialegenskaper!$E$3:$E$7)","v":1.6469231505544824E-5},{"$f":"Egen_LinInt1(O115,Materialegenskaper!$B$3:$B$7,Materialegenskaper!$D$3:$D$7)","v":2.3352149729827379E-5},{"$f":"Egen_LinInt1(O115,Materialegenskaper!$B$3:$B$7,Materialegenskaper!$F$3:$F$7)","v":0.70619391241773077}]
[39.851978280556608,940,0,-11.649245092710361,0,11.780999999999999,3.3898787837181366,20.040366308992223,32.538501332216285,16.078848356736856,3.275300298218268,16.071922710634944,2857.8458709497149,802.38554047595767,305.5759891402783,3.2725084284712506E-3,{"$f":"Egen_LinInt1(O116,Materialegenskaper!$B$3:$B$7,Materialegenskaper!$G$3:$G$7)","v":2.6712623196380594E-2},{"$f":"Egen_LinInt1(O116,Materialegenskaper!$B$3:$B$7,Materialegenskaper!$E$3:$E$7)","v":1.6450944507511997E-5},{"$f":"Egen_LinInt1(O116,Materialegenskaper!$B$3:$B$7,Materialegenskaper!$D$3:$D$7)","v":2.3325246392761189E-5},{"$f":"Egen_LinInt1(O116,Materialegenskaper!$B$3:$B$7,Materialegenskaper!$F$3:$F$7)","v":0.70621936152036102}]
[39.505602789572158,950,0,-11.098869346144912,0,11.780999999999999,3.3051066305512391,19.574762715593671,32.541451565949714,16.088024748359388,3.2601233911156804,16.081238296200102,2798.8149312923897,803.23622314979832,305.40280139478602,3.2743642017458996E-3,{"$f":"Egen_LinInt1(O117,Materialegenskaper!$B$3:$B$7,Materialegenskaper!$G$3:$G$7)","v":2.6699807303214165E-2},{"$f":"Egen_LinInt1(O117,Materialegenskaper!$B$3:$B$7,Materialegenskaper!$E$3:$E$7)","v":1.6433521820315473E-5},{"$f":"Egen_LinInt1(O117,Materialegenskaper!$B$3:$B$7,Materialegenskaper!$D$3:$D$7)","v":2.3299614606428334E-5},{"$f":"Egen_LinInt1(O117,Materialegenskaper!$B$3:$B$7,Materialegenskaper!$F$3:$F$7)","v":0.70624360780472994}]
[39.175592021617,960,0,-10.574686388457142,0,11.780999999999999,3.2246012560611108,19.131085132396031,32.544274532628705,16.096781788300959,3.2453643838690036,16.090128352399788,2742.2601296746216,804.04839445067091,305.23779601080849,3.2761342568617875E-3,{"$f":"Egen_LinInt1(O118,Materialegenskaper!$B$3:$B$7,Materialegenskaper!$G$3:$G$7)","v":2.668759690479983E-2},{"$f":"Egen_LinInt1(O118,Materialegenskaper!$B$3:$B$7,Materialegenskaper!$E$3:$E$7)","v":1.6416922278687333E-5},{"$f":"Egen_LinInt1(O118,Materialegenskaper!$B$3:$B$7,Materialegenskaper!$D$3:$D$7)","v":2.3275193809599659E-5},{"$f":"Egen_LinInt1(O118,Materialegenskaper!$B$3:$B$7,Materialegenskaper!$F$3:$F$7)","v":0.70626670855848672}]
[38.861167167417612,970,0,-10.075431292761627,0,11.780999999999999,3.1481350595891286,18.708296233172497,32.54697519635257,16.105138157871629,3.2310200267947846,16.098611824734764,2688.0908369025187,804.82373748242333,305.0805835837088,3.2778224961196767E-3,{"$f":"Egen_LinInt1(O119,Materialegenskaper!$B$3:$B$7,Materialegenskaper!$G$3:$G$7)","v":2.6675963185194451E-2},{"$f":"Egen_LinInt1(O119,Materialegenskaper!$B$3:$B$7,Materialegenskaper!$E$3:$E$7)","v":1.6401106708521103E-5},{"$f":"Egen_LinInt1(O119,Materialegenskaper!$B$3:$B$7,Materialegenskaper!$D$3:$D$7)","v":2.3251926370388905E-5},{"$f":"Egen_LinInt1(O119,Materialegenskaper!$B$3:$B$7,Materialegenskaper!$F$3:$F$7)","v":0.70628871829828077}]
[38.561587028693069,980,0,-9.5999020302675664,0,11.780999999999999,3.0754937484405485,18.305408281827017,32.549558378247909,16.113111749112019,3.2170865669309405,16.10670685883327,2636.2185050770795,805.56386717307248,304.93079351434653,3.2794326492084883E-3,{"$f":"Egen_LinInt1(O120,Materialegenskaper!$B$3:$B$7,Materialegenskaper!$G$3:$G$7)","v":2.6664878720061645E-2},{"$f":"Egen_LinInt1(O120,Materialegenskaper!$B$3:$B$7,Materialegenskaper!$E$3:$E$7)","v":1.6386037827543261E-5},{"$f":"Egen_LinInt1(O120,Materialegenskaper!$B$3:$B$7,Materialegenskaper!$D$3:$D$7)","v":2.3229757440123288E-5},{"$f":"Egen_LinInt1(O120,Materialegenskaper!$B$3:$B$7,Materialegenskaper!$F$3:$F$7)","v":0.7063096889079914}]
[38.276146147960183,990,0,-9.1469561614118753,0,11.780999999999999,3.0064754565304321,17.921480704881443,32.552028755292419,16.120719694339847,3.2035597784222016,16.114430830369884,2586.5567473288588,806.27033255339381,304.78807307398006,3.280968280400112E-3,{"$f":"Egen_LinInt1(O121,Materialegenskaper!$B$3:$B$7,Materialegenskaper!$G$3:$G$7)","v":2.6654317407474523E-2},{"$f":"Egen_LinInt1(O121,Materialegenskaper!$B$3:$B$7,Materialegenskaper!$E$3:$E$7)","v":1.6371680151242391E-5},{"$f":"Egen_LinInt1(O121,Materialegenskaper!$B$3:$B$7,Materialegenskaper!$D$3:$D$7)","v":2.320863481494905E-5},{"$f":"Egen_LinInt1(O121,Materialegenskaper!$B$3:$B$7,Materialegenskaper!$F$3:$F$7)","v":0.70632966976964273}]
[38.004173036723571,1000,0,-8.7155077193882988,0,11.780999999999999,2.9408899301513038,17.555617789236994,32.554390859866039,16.127978394928906,3.1904349928093763,16.12180037420886,2539.0214002564885,806.94461900419867,304.65208651836178,3.2824327954823597E-3,{"$f":"Egen_LinInt1(O122,Materialegenskaper!$B$3:$B$7,Materialegenskaper!$G$3:$G$7)","v":2.6644254402358774E-2},{"$f":"Egen_LinInt1(O122,Materialegenskaper!$B$3:$B$7,Materialegenskaper!$E$3:$E$7)","v":1.6357999903747196E-5},{"$f":"Egen_LinInt1(O122,Materialegenskaper!$B$3:$B$7,Materialegenskaper!$D$3:$D$7)","v":2.3188508804717545E-5},{"$f":"Egen_LinInt1(O122,Materialegenskaper!$B$3:$B$7,Materialegenskaper!$F$3:$F$7)","v":0.70634870788742932}]

{"sheet":"Materialegenskaper","index":1,"n_rows":7,"n_cols":7,"rows_kept":7,"cut":false,"hidden":false,"merged":[]}
["Materialegenskaper for luft:"]
["Indeks","Temperatur [K]","Temperatur [°C]","alfa (Termisk diffusivitet) [m2/s]","v (kinematisk viskositet) [m2/s]","Pr (Prandtls tall)","k (termisk konduktivitet) [W/(m*K)]"]
[0,250,{"$f":"B3-273.15","v":-23.149999999999977},1.59E-5,1.1440000000000001E-5,0.72,2.23E-2]
[1,300,{"$f":"B4-273.15","v":26.850000000000023},2.2500000000000001E-5,1.5889999999999999E-5,0.70699999999999996,2.63E-2]
[2,350,{"$f":"B5-273.15","v":76.850000000000023},2.9899999999999998E-5,2.092E-5,0.7,0.03]
[3,400,{"$f":"B6-273.15","v":126.85000000000002},3.8300000000000003E-5,2.641E-5,0.69,3.3799999999999997E-2]
[4,450,{"$f":"B7-273.15","v":176.85000000000002},4.7200000000000002E-5,3.239E-5,0.68600000000000005,3.73E-2]